BEGIN:VCALENDAR
VERSION:2.0
PRODID:-//Terra Preta - ECPv6.15.17.1//NONSGML v1.0//EN
CALSCALE:GREGORIAN
METHOD:PUBLISH
X-WR-CALNAME:Terra Preta
X-ORIGINAL-URL:https://terra-preta.fr
X-WR-CALDESC:Évènements pour Terra Preta
REFRESH-INTERVAL;VALUE=DURATION:PT1H
X-Robots-Tag:noindex
X-PUBLISHED-TTL:PT1H
BEGIN:VTIMEZONE
TZID:Europe/Paris
BEGIN:DAYLIGHT
TZOFFSETFROM:+0100
TZOFFSETTO:+0200
TZNAME:CEST
DTSTART:20250330T010000
END:DAYLIGHT
BEGIN:STANDARD
TZOFFSETFROM:+0200
TZOFFSETTO:+0100
TZNAME:CET
DTSTART:20251026T010000
END:STANDARD
BEGIN:DAYLIGHT
TZOFFSETFROM:+0100
TZOFFSETTO:+0200
TZNAME:CEST
DTSTART:20260329T010000
END:DAYLIGHT
BEGIN:STANDARD
TZOFFSETFROM:+0200
TZOFFSETTO:+0100
TZNAME:CET
DTSTART:20261025T010000
END:STANDARD
BEGIN:DAYLIGHT
TZOFFSETFROM:+0100
TZOFFSETTO:+0200
TZNAME:CEST
DTSTART:20270328T010000
END:DAYLIGHT
BEGIN:STANDARD
TZOFFSETFROM:+0200
TZOFFSETTO:+0100
TZNAME:CET
DTSTART:20271031T010000
END:STANDARD
END:VTIMEZONE
BEGIN:VEVENT
DTSTART;TZID=Europe/Paris:20260422T143000
DTEND;TZID=Europe/Paris:20260422T160000
DTSTAMP:20260422T131843
CREATED:20260327T154659Z
LAST-MODIFIED:20260327T154659Z
UID:7270-1776868200-1776873600@terra-preta.fr
SUMMARY:Création de bombes de graines à ramener chez soi
DESCRIPTION:Semer des fleurs n’a jamais été aussi simple.\n\nDans cet atelier\, on découvre pourquoi certaines plantes sont essentielles pour les insectes et comment favoriser la biodiversité\, même sans jardin. On parle aussi des périodes de semis et du choix des graines.\n\nPuis on fabrique des bombes de graines en mélangeant terre\, argile et semences. On les façonne\, on échange sur leur utilisation\, et chacun·e repart avec ses créations.\n\nIl ne restera plus qu’à les déposer dans un coin de nature… et laisser la vie faire le reste.\n\n\nL’atelier est ouvert à tous.tes\, petit.es et grand.es ! (C’est gratuit et c’est sans réservation).
URL:https://terra-preta.fr/evenement/creation-de-bombes-de-graines-a-ramener-chez-soi/
LOCATION:Archipel des Salins\, 1 place Gambetta\, Clermont-Ferrand\, 63000\, France
CATEGORIES:Animation,Atelier,Les mercredis aux Salins
ATTACH;FMTTYPE=image/png:https://terra-preta.fr/wp-content/uploads/2026/03/4.png
END:VEVENT
BEGIN:VEVENT
DTSTART;TZID=Europe/Paris:20260429T143000
DTEND;TZID=Europe/Paris:20260429T160000
DTSTAMP:20260422T131843
CREATED:20260327T155037Z
LAST-MODIFIED:20260327T155037Z
UID:7274-1777473000-1777478400@terra-preta.fr
SUMMARY:Aide les insectes en créant des mini-hôtels à ramener chez soi
DESCRIPTION:Les insectes sont indispensables\, mais ils manquent souvent d’abris en ville.\n\nCet atelier permet de mieux les connaître : qui sont-ils\, à quoi servent-ils\, et de quoi ont-ils besoin pour vivre et se reproduire ? On parle notamment des pollinisateurs et des insectes utiles au jardin.\n\nEnsuite\, place à la fabrication : on assemble des mini-hôtels à insectes avec différents matériaux (bois\, tiges\, fibres…)\, en comprenant le rôle de chacun.\n\nChaque participant·e repart avec un petit refuge prêt à être installé chez soi\, dans un jardin ou sur un balcon.\n\n\n\nL’atelier est ouvert à tous.tes\, petit.es et grand.es ! (C’est gratuit et c’est sans réservation).
URL:https://terra-preta.fr/evenement/aide-les-insectes-en-creant-des-mini-hotels-a-ramener-chez-soi/
LOCATION:Archipel des Salins\, 1 place Gambetta\, Clermont-Ferrand\, 63000\, France
CATEGORIES:Animation,Atelier,Les mercredis aux Salins
ATTACH;FMTTYPE=image/png:https://terra-preta.fr/wp-content/uploads/2026/03/5.png
END:VEVENT
END:VCALENDAR