BEGIN:VCALENDAR
VERSION:2.0
PRODID:-//Terra Preta - ECPv6.15.17.1//NONSGML v1.0//EN
CALSCALE:GREGORIAN
METHOD:PUBLISH
X-ORIGINAL-URL:https://terra-preta.fr
X-WR-CALDESC:Évènements pour Terra Preta
REFRESH-INTERVAL;VALUE=DURATION:PT1H
X-Robots-Tag:noindex
X-PUBLISHED-TTL:PT1H
BEGIN:VTIMEZONE
TZID:Europe/Paris
BEGIN:DAYLIGHT
TZOFFSETFROM:+0100
TZOFFSETTO:+0200
TZNAME:CEST
DTSTART:20240331T010000
END:DAYLIGHT
BEGIN:STANDARD
TZOFFSETFROM:+0200
TZOFFSETTO:+0100
TZNAME:CET
DTSTART:20241027T010000
END:STANDARD
BEGIN:DAYLIGHT
TZOFFSETFROM:+0100
TZOFFSETTO:+0200
TZNAME:CEST
DTSTART:20250330T010000
END:DAYLIGHT
BEGIN:STANDARD
TZOFFSETFROM:+0200
TZOFFSETTO:+0100
TZNAME:CET
DTSTART:20251026T010000
END:STANDARD
BEGIN:DAYLIGHT
TZOFFSETFROM:+0100
TZOFFSETTO:+0200
TZNAME:CEST
DTSTART:20260329T010000
END:DAYLIGHT
BEGIN:STANDARD
TZOFFSETFROM:+0200
TZOFFSETTO:+0100
TZNAME:CET
DTSTART:20261025T010000
END:STANDARD
BEGIN:DAYLIGHT
TZOFFSETFROM:+0100
TZOFFSETTO:+0200
TZNAME:CEST
DTSTART:20270328T010000
END:DAYLIGHT
BEGIN:STANDARD
TZOFFSETFROM:+0200
TZOFFSETTO:+0100
TZNAME:CET
DTSTART:20271031T010000
END:STANDARD
END:VTIMEZONE
BEGIN:VEVENT
DTSTART;TZID=Europe/Paris:20260124T100000
DTEND;TZID=Europe/Paris:20260124T110000
DTSTAMP:20260422T181823
CREATED:20260121T114237Z
LAST-MODIFIED:20260121T115335Z
UID:7102-1769248800-1769252400@terra-preta.fr
SUMMARY:Comptage national des oiseaux des jardins
DESCRIPTION:On te donne rendez-vous le samedi janvier de 10h à 11h à l’Archipel des Salins (1 place Gambetta). \nPour quoi faire ? \nDébutants ou professionnels\, à la ville ou à la campagne\, tout le monde est invité à compter durant 1h les oiseaux posés dans les jardins\, sur les balcons. Pour chaque espèce identifiée\, il faut compter le nombre d’individus présents (pour éviter le doublon\, ne conserver que le nombre maximum d’oiseaux de la même espèce vus en même temps) et enregistrer les données sur le site de l’Observatoire des oiseaux des jardins. \nAlors\, prêt à compter ? \nCet évènement\, lancé par l’Observatoire des oiseaux des jardins\, permet d’avoir un suivi annuel des oiseaux qui viennent fréquenter les jardins en cette période de reproduction et sensibilise les citoyens à l’importance et à la préservation de cette biodiversité de proximité.
URL:https://terra-preta.fr/evenement/comptage-national-des-oiseaux-des-jardins-2/
LOCATION:Archipel des Salins\, 1 place Gambetta\, Clermont-Ferrand\, 63000\, France
CATEGORIES:Animation,Atelier
ATTACH;FMTTYPE=image/png:https://terra-preta.fr/wp-content/uploads/2026/01/Affiche-comptage-oiseaux.png
END:VEVENT
BEGIN:VEVENT
DTSTART;TZID=Europe/Paris:20260121T160000
DTEND;TZID=Europe/Paris:20260121T173000
DTSTAMP:20260422T181823
CREATED:20251222T114447Z
LAST-MODIFIED:20251222T141925Z
UID:7088-1769011200-1769016600@terra-preta.fr
SUMMARY:Découverte de la mare et de ses habitants
DESCRIPTION:Viens observer de près la vie cachée sous l’eau ! \nAu bord de la mare de l’Archipel des Salins\, découvre les petites bêtes aquatiques\, insectes qui y vivent. \nAvec des boîtes loupes et des fiches d’identification\, tu apprendras à reconnaître chaque espèce et à comprendre son rôle dans cet écosystème fascinant. \nUn atelier d’observation et de curiosité pour mieux connaître la biodiversité locale. \nL’atelier est ouvert à tous.tes\, petits.es et grand.es ! (Et c’est gratuit).
URL:https://terra-preta.fr/evenement/decouverte-de-la-mare-et-de-ses-habitants-2/
LOCATION:Archipel des Salins\, 1 place Gambetta\, Clermont-Ferrand\, 63000\, France
CATEGORIES:Animation,Atelier,Les mercredis aux Salins
ATTACH;FMTTYPE=image/jpeg:https://terra-preta.fr/wp-content/uploads/2025/04/23-e1761123431511.jpg
ORGANIZER;CN="Association Terra Preta":MAILTO:contact@terra-preta.fr
END:VEVENT
BEGIN:VEVENT
DTSTART;TZID=Europe/Paris:20260121T143000
DTEND;TZID=Europe/Paris:20260121T160000
DTSTAMP:20260422T181823
CREATED:20251222T114156Z
LAST-MODIFIED:20251222T142107Z
UID:7086-1769005800-1769011200@terra-preta.fr
SUMMARY:Découverte de la mare et de ses habitants
DESCRIPTION:Viens observer de près la vie cachée sous l’eau ! \nAu bord de la mare de l’Archipel des Salins\, découvre les petites bêtes aquatiques\, insectes qui y vivent. \nAvec des boîtes loupes et des fiches d’identification\, tu apprendras à reconnaître chaque espèce et à comprendre son rôle dans cet écosystème fascinant. \nUn atelier d’observation et de curiosité pour mieux connaître la biodiversité locale. \nL’atelier est ouvert à tous.tes\, petits.es et grand.es ! (Et c’est gratuit).
URL:https://terra-preta.fr/evenement/decouverte-de-la-mare-et-de-ses-habitants/
LOCATION:Archipel des Salins\, 1 place Gambetta\, Clermont-Ferrand\, 63000\, France
CATEGORIES:Animation,Atelier,Les mercredis aux Salins
ATTACH;FMTTYPE=image/jpeg:https://terra-preta.fr/wp-content/uploads/2025/04/23-e1761123431511.jpg
ORGANIZER;CN="Association Terra Preta":MAILTO:contact@terra-preta.fr
END:VEVENT
BEGIN:VEVENT
DTSTART;TZID=Europe/Paris:20260114T160000
DTEND;TZID=Europe/Paris:20260114T173000
DTSTAMP:20260422T181823
CREATED:20251222T112627Z
LAST-MODIFIED:20251222T142234Z
UID:7083-1768406400-1768411800@terra-preta.fr
SUMMARY:Création de marque-pages naturel
DESCRIPTION:Un atelier créatif et écolo pour donner une seconde vie aux matériaux du quotidien. \nAvec des vieux livres\, des feuilles séchées et bien d’autres choses\, viens créer ton marque-page unique. Pour toi ou à offrir. \nUne belle façon d’allier création\, réutilisation et imagination. \nL’atelier est ouvert à tous.tes\, petits.es et grand.es ! (Et c’est gratuit).
URL:https://terra-preta.fr/evenement/creation-de-marque-pages-naturel-2/
LOCATION:Archipel des Salins\, 1 place Gambetta\, Clermont-Ferrand\, 63000\, France
CATEGORIES:Animation,Atelier,Les mercredis aux Salins
ATTACH;FMTTYPE=image/png:https://terra-preta.fr/wp-content/uploads/2025/12/4.png
ORGANIZER;CN="Association Terra Preta":MAILTO:contact@terra-preta.fr
END:VEVENT
BEGIN:VEVENT
DTSTART;TZID=Europe/Paris:20260114T143000
DTEND;TZID=Europe/Paris:20260114T160000
DTSTAMP:20260422T181823
CREATED:20251222T111913Z
LAST-MODIFIED:20251222T111913Z
UID:7081-1768401000-1768406400@terra-preta.fr
SUMMARY:Création de marque-pages naturel
DESCRIPTION:Un atelier créatif et écolo pour donner une seconde vie aux matériaux du quotidien. \nAvec des vieux livres\, des feuilles séchées et bien d’autres choses\, viens créer ton marque-page unique. Pour toi ou à offrir. \nUne belle façon d’allier création\, réutilisation et imagination. \nPas d’horaire fixe : tu viens quand tu veux\, tu repars quand tu veux ! (Et c’est gratuit). L’atelier est ouvert à tous.tes.
URL:https://terra-preta.fr/evenement/creation-de-marque-pages-naturel/
LOCATION:Archipel des Salins\, 1 place Gambetta\, Clermont-Ferrand\, 63000\, France
CATEGORIES:Animation,Atelier,Les mercredis aux Salins
ATTACH;FMTTYPE=image/png:https://terra-preta.fr/wp-content/uploads/2025/12/4.png
ORGANIZER;CN="Association Terra Preta":MAILTO:contact@terra-preta.fr
END:VEVENT
BEGIN:VEVENT
DTSTART;TZID=Europe/Paris:20260107T160000
DTEND;TZID=Europe/Paris:20260107T173000
DTSTAMP:20260422T181823
CREATED:20251222T110229Z
LAST-MODIFIED:20251222T143039Z
UID:7076-1767801600-1767807000@terra-preta.fr
SUMMARY:Viens découvrir les insectes à l'Archipel des Salins
DESCRIPTION:L’hiver n’est pas synonyme d’absence de vie : il suffit de savoir où regarder ! \nDans cet atelier\, nous explorerons les alentours de la mare\, du sol et des zones cachées pour identifier la petite faune active\, même en période froide. \nGrâce à des loupes et de petites fiches d’observation\, vous apprendrez à reconnaître des espèces souvent invisibles au premier regard. \nL’atelier est ouvert à tous.tes\, petits.es et grand.es ! (Et c’est gratuit).
URL:https://terra-preta.fr/evenement/viens-decouvrir-les-insectes-a-larchipel-des-salins/
LOCATION:Archipel des Salins\, 1 place Gambetta\, Clermont-Ferrand\, 63000\, France
CATEGORIES:Animation,Atelier,Les mercredis aux Salins
ATTACH;FMTTYPE=image/png:https://terra-preta.fr/wp-content/uploads/2025/12/1-e1766401062918.png
END:VEVENT
BEGIN:VEVENT
DTSTART;TZID=Europe/Paris:20260107T143000
DTEND;TZID=Europe/Paris:20260107T160000
DTSTAMP:20260422T181823
CREATED:20251222T105758Z
LAST-MODIFIED:20251222T142541Z
UID:7073-1767796200-1767801600@terra-preta.fr
SUMMARY:Viens découvrir les insectes de l'Archipel des Salins
DESCRIPTION:L’hiver n’est pas synonyme d’absence de vie : il suffit de savoir où regarder ! \nDans cet atelier\, nous explorerons les alentours de la mare\, du sol et des zones cachées pour identifier la petite faune active\, même en période froide. \nGrâce à des loupes et de petites fiches d’observation\, vous apprendrez à reconnaître des espèces souvent invisibles au premier regard. \nL’atelier est ouvert à tous.tes\, petits.es et grand.es ! (Et c’est gratuit).
URL:https://terra-preta.fr/evenement/viens-decouvrir-les-insectes-de-larchipel-des-salins/
LOCATION:Archipel des Salins\, 1 place Gambetta\, Clermont-Ferrand\, 63000\, France
CATEGORIES:Animation,Atelier,Les mercredis aux Salins
ATTACH;FMTTYPE=image/png:https://terra-preta.fr/wp-content/uploads/2025/12/1-e1766401062918.png
END:VEVENT
BEGIN:VEVENT
DTSTART;TZID=Europe/Paris:20251217T143000
DTEND;TZID=Europe/Paris:20251217T160000
DTSTAMP:20260422T181823
CREATED:20251125T151028Z
LAST-MODIFIED:20251125T151028Z
UID:7045-1765981800-1765987200@terra-preta.fr
SUMMARY:Création de lanterne végétales
DESCRIPTION:Plonges dans l’ambiance lumineuse de l’hiver avec la création de véritables lanternes végétales. \nA partir de feuilles\, de silhouettes naturelles et de papier calque\, tu façonnera une lanterne qui diffuse une lumière douce et poétique. \nCet atelier mêle créativité et observation du végétal : l’occasion de manipuler des éléments naturels\, de jouer avec les formes et transparences et de repartir avec une décoration faite main pour toi ou à offrir. \nPas d’horaire fixe : tu viens quand tu veux\, tu repars quand tu veux ! (Et c’est gratuit). L’atelier est ouvert à tous.tes.
URL:https://terra-preta.fr/evenement/creation-de-lanterne-vegetales/
LOCATION:Archipel des Salins\, 1 place Gambetta\, Clermont-Ferrand\, 63000\, France
CATEGORIES:Animation,Atelier,Les mercredis aux Salins
ATTACH;FMTTYPE=image/jpeg:https://terra-preta.fr/wp-content/uploads/2025/11/Lanternes.jpeg
END:VEVENT
BEGIN:VEVENT
DTSTART;TZID=Europe/Paris:20251212T100000
DTEND;TZID=Europe/Paris:20251212T200000
DTSTAMP:20260422T181823
CREATED:20251125T152600Z
LAST-MODIFIED:20251209T103358Z
UID:7053-1765533600-1765569600@terra-preta.fr
SUMMARY:Rendez-vous le vendredi 12 décembre pour notre vente à prix libre !
DESCRIPTION:Le déménagement de l’Atelier Bois Coopératif arrive vite\, très vite même. \nEt c’est pourquoi nous organisons une vente à prix libre le vendredi 12 décembre (10h–20h). \n  \nPrix libre qu’est-ce que c’est ? \nTu donnes ce que tu veux\, ce que tu peux et ce qu’il te parait juste de donner. Ce sera l’occasion de désencombrer l’atelier\, de partager ce qui ne nous servira plus\, et de faire plaisir autour de nous sans gaspiller. \n Tu trouveras peut-être ton bonheur parmi : outils\, visserie\, bois\, petits meubles\, matériaux\, objets divers\, et autres trésors inattendus. \nLa vente est ouverte à toutes et tous : adhérent·es\, bénévoles\, curieux·ses… Alors n’hésite pas à passer.\n\n\n\n\n\n\nEnvie de venir faire un petit tour ?\n Écris-nous si tu as une question :\n  contact@terra-preta.fr\n 07 67 04 16 04 \n\nOn te dit à vendredi !
URL:https://terra-preta.fr/evenement/viens-decouvrir-notre-gratiferia/
LOCATION:Atelier Bois Coopératif\, 4\, avenue Marx Dormoy\, Clermont-Ferrand\, 63000\, France
CATEGORIES:Animation,Équipage Atelier Bois Coopératif,Rencontre conviviale
ATTACH;FMTTYPE=image/jpeg:https://terra-preta.fr/wp-content/uploads/2025/12/1000036445.jpg
END:VEVENT
BEGIN:VEVENT
DTSTART;TZID=Europe/Paris:20251210T160000
DTEND;TZID=Europe/Paris:20251210T173000
DTSTAMP:20260422T181823
CREATED:20251125T150426Z
LAST-MODIFIED:20251125T150426Z
UID:7043-1765382400-1765387800@terra-preta.fr
SUMMARY:Identification de la faune en hiver
DESCRIPTION:L’hiver n’est pas synonyme d’absence de vie : il suffit de savoir où regarder ! \nDans cet atelier\, nous explorerons les alentours de la mare\, du sol et des zones cachées pour identifier la petite faune active\, même en période froide. Traces d’oiseaux\, microfaune du sol\, indices de présence\,etc. \nGrâce à des loupes et de petites fiches d’observation\, vous apprendrez à reconnaître des espèces souvent invisibles au premier regard. \nPas d’horaire fixe : tu viens quand tu veux\, tu repars quand tu veux ! (Et c’est gratuit). L’atelier est ouvert à tous.tes.
URL:https://terra-preta.fr/evenement/identification-de-la-faune-en-hiver-2/
LOCATION:Archipel des Salins\, 1 place Gambetta\, Clermont-Ferrand\, 63000\, France
END:VEVENT
BEGIN:VEVENT
DTSTART;TZID=Europe/Paris:20251210T143000
DTEND;TZID=Europe/Paris:20251210T160000
DTSTAMP:20260422T181823
CREATED:20251125T150256Z
LAST-MODIFIED:20251125T150256Z
UID:7041-1765377000-1765382400@terra-preta.fr
SUMMARY:Identification de la faune en hiver
DESCRIPTION:L’hiver n’est pas synonyme d’absence de vie : il suffit de savoir où regarder ! \nDans cet atelier\, nous explorerons les alentours de la mare\, du sol et des zones cachées pour identifier la petite faune active\, même en période froide. Traces d’oiseaux\, microfaune du sol\, indices de présence\,etc. \nGrâce à des loupes et de petites fiches d’observation\, vous apprendrez à reconnaître des espèces souvent invisibles au premier regard. \nPas d’horaire fixe : tu viens quand tu veux\, tu repars quand tu veux ! (Et c’est gratuit). L’atelier est ouvert à tous.tes.
URL:https://terra-preta.fr/evenement/identification-de-la-faune-en-hiver/
LOCATION:Archipel des Salins\, 1 place Gambetta\, Clermont-Ferrand\, 63000\, France
CATEGORIES:Animation,Atelier,Les mercredis aux Salins
ATTACH;FMTTYPE=image/jpeg:https://terra-preta.fr/wp-content/uploads/2025/08/Orthocephalus-saltator-sur-des-fleurs-dabsinthe.jpg
END:VEVENT
BEGIN:VEVENT
DTSTART;TZID=Europe/Paris:20251203T160000
DTEND;TZID=Europe/Paris:20251203T173000
DTSTAMP:20260422T181823
CREATED:20251125T145551Z
LAST-MODIFIED:20251125T145551Z
UID:7038-1764777600-1764783000@terra-preta.fr
SUMMARY:Confection de boules de graisse pour les oiseaux
DESCRIPTION:Quand le froid s’installe\, les oiseaux ont besoin d’un coup de pouce pour l’affronter. \nNous proposons un atelier chaleureux où tu pourras fabriquer tes propres boules de graisse aux graines\, à suspendre ensuite dans ton jardin\, sur ton balcon ou à ta fenêtre. C’est l’occasion de découvrir quels oiseaux fréquentent l’Archipel des Salins en hiver\, de comprendre leurs besoins alimentaires et de repartir avec une création utile\, simple à reproduire chez soi. \nPas d’horaire fixe : tu viens quand tu veux\, tu repars quand tu veux ! (Et c’est gratuit). L’atelier est ouvert à tous.tes.
URL:https://terra-preta.fr/evenement/confection-de-boules-de-graisse-pour-les-oiseaux-2/
LOCATION:Archipel des Salins\, 1 place Gambetta\, Clermont-Ferrand\, 63000\, France
CATEGORIES:Animation,Atelier,Les mercredis aux Salins
END:VEVENT
BEGIN:VEVENT
DTSTART;TZID=Europe/Paris:20251203T143000
DTEND;TZID=Europe/Paris:20251203T160000
DTSTAMP:20260422T181823
CREATED:20251125T145218Z
LAST-MODIFIED:20251125T145332Z
UID:7035-1764772200-1764777600@terra-preta.fr
SUMMARY:Confection de boules de graisse pour les oiseaux
DESCRIPTION:Quand le froid s’installe\, les oiseaux ont besoin d’un coup de pouce pour l’affronter. \nNous proposons un atelier chaleureux où tu pourras fabriquer tes propres boules de graisse aux graines\, à suspendre ensuite dans ton jardin\, sur ton balcon ou à ta fenêtre. C’est l’occasion de découvrir quels oiseaux fréquentent l’Archipel des Salins en hiver\, de comprendre leurs besoins alimentaires et de repartir avec une création utile\, simple à reproduire chez soi. \nPas d’horaire fixe : tu viens quand tu veux\, tu repars quand tu veux ! (Et c’est gratuit). L’atelier est ouvert à tous.tes.
URL:https://terra-preta.fr/evenement/confection-de-boules-de-graisse-pour-les-oiseaux/
LOCATION:Archipel des Salins\, 1 place Gambetta\, Clermont-Ferrand\, 63000\, France
CATEGORIES:Animation,Atelier,Les mercredis aux Salins
ATTACH;FMTTYPE=image/jpeg:https://terra-preta.fr/wp-content/uploads/2025/11/boules-de-graisse.jpeg
END:VEVENT
BEGIN:VEVENT
DTSTART;TZID=Europe/Paris:20251126T140000
DTEND;TZID=Europe/Paris:20251126T180000
DTSTAMP:20260422T181823
CREATED:20251022T091357Z
LAST-MODIFIED:20251022T091357Z
UID:7003-1764165600-1764180000@terra-preta.fr
SUMMARY:Empreintes végétales sur argile
DESCRIPTION:Un atelier artistique et sensoriel pour garder la trace du vivant. \nChoisi une feuille\, une fleur ou une herbe du jardin\, puis presse-la délicatement dans l’argile fraîche pour en révéler les détails. \nTu repartiras avec une (ou plusieurs) empreintes naturelle unique\, souvenir poétique du jardin ! \nUne activité simple et apaisante pour créer en lien direct avec la nature. \nPas d’horaire fixe : tu viens quand tu veux\, tu repars quand tu veux ! (Et c’est gratuit). L’atelier est ouvert à tous.tes.
URL:https://terra-preta.fr/evenement/empreintes-vegetales-sur-argile/
LOCATION:Archipel des Salins\, 1 place Gambetta\, Clermont-Ferrand\, 63000\, France
CATEGORIES:Animation,Atelier,Les mercredis aux Salins
ATTACH;FMTTYPE=image/jpeg:https://terra-preta.fr/wp-content/uploads/2025/10/Empreinte-vegetale.jpeg
END:VEVENT
BEGIN:VEVENT
DTSTART;TZID=Europe/Paris:20251119T140000
DTEND;TZID=Europe/Paris:20251119T180000
DTSTAMP:20260422T181823
CREATED:20251022T090904Z
LAST-MODIFIED:20251022T090904Z
UID:7001-1763560800-1763575200@terra-preta.fr
SUMMARY:A la découverte de la faune du compost
DESCRIPTION:Plonge dans le monde fascinant des petites bêtes du compost ! \nAvec des boîtes loupes et des fiches d’identification\, viens observer vers\, cloportes\, collemboles et autres décomposeurs à l’œuvre. \nTu apprendras à reconnaître ces alliés du jardin et à comprendre leur rôle essentiel dans la transformation des déchets en terre fertile. \nUn atelier ludique pour voir la vie cachée sous nos pieds. \nPas d’horaire fixe : tu viens quand tu veux\, tu repars quand tu veux ! (Et c’est gratuit). L’atelier est ouvert à tous.tes.
URL:https://terra-preta.fr/evenement/a-la-decouverte-de-la-faune-du-compost/
LOCATION:Archipel des Salins\, 1 place Gambetta\, Clermont-Ferrand\, 63000\, France
CATEGORIES:Animation,Atelier,Les mercredis aux Salins
ATTACH;FMTTYPE=image/jpeg:https://terra-preta.fr/wp-content/uploads/2025/03/1743077738532-scaled-e1743077962573.jpg
END:VEVENT
BEGIN:VEVENT
DTSTART;TZID=Europe/Paris:20251114T181500
DTEND;TZID=Europe/Paris:20251114T210000
DTSTAMP:20260422T181823
CREATED:20251029T110131Z
LAST-MODIFIED:20251029T110131Z
UID:7007-1763144100-1763154000@terra-preta.fr
SUMMARY:Ciné-débat dans le cadre du festival ALIMENTERRE
DESCRIPTION:On t’invite à notre ciné-débat qui aura lieu le vendredi 14 novembre à 18h15 à l’Atelier Bois Coopératif (4 rue Marx Dormoy). \nNous projetterons le film « Leurs champs du coeur » de Mickaël Denis-Shi\, sorti cette année. \nA travers le regard de quinze agriculteurs et agricultrices\, le film interroge notre manière de produire et de consommer. \nAu programme de la soirée : \n\nProjection du film\nTémoignage d’agriculteurs.rices\nDébat\nApéro partagé (à prix libre ou ramène un petit quelque chose)\n\n  \nPlus d’informations au 07.67.04.16.04 ou à contact@terra-preta.fr
URL:https://terra-preta.fr/evenement/cine-debat-dans-le-cadre-du-festival-alimenterre/
LOCATION:Atelier Bois Coopératif\, 4\, avenue Marx Dormoy\, Clermont-Ferrand\, 63000\, France
CATEGORIES:Animation,Fête,Rencontre conviviale
ATTACH;FMTTYPE=image/png:https://terra-preta.fr/wp-content/uploads/2025/10/Affiche_Leurs-Champs-du-Coeur_6.png
END:VEVENT
BEGIN:VEVENT
DTSTART;TZID=Europe/Paris:20251112T140000
DTEND;TZID=Europe/Paris:20251112T180000
DTSTAMP:20260422T181823
CREATED:20251022T090313Z
LAST-MODIFIED:20251022T090313Z
UID:6998-1762956000-1762970400@terra-preta.fr
SUMMARY:Création de marque-pages zéro déchet
DESCRIPTION:Un atelier créatif et écolo pour donner une seconde vie aux matériaux du quotidien. \nAvec des vieux livres\, des feuilles séchées et bien d’autres choses\, viens créer ton marque-page unique. Pour toi ou à offrir. \nUne belle façon d’allier création\, réutilisation et imagination. \nPas d’horaire fixe : tu viens quand tu veux\, tu repars quand tu veux ! (Et c’est gratuit). L’atelier est ouvert à tous.tes. \n 
URL:https://terra-preta.fr/evenement/creation-de-marque-pages-zero-dechet/
LOCATION:Archipel des Salins\, 1 place Gambetta\, Clermont-Ferrand\, 63000\, France
CATEGORIES:Animation,Atelier,Les mercredis aux Salins
ATTACH;FMTTYPE=image/jpeg:https://terra-preta.fr/wp-content/uploads/2025/10/Marque-page.jpeg
END:VEVENT
BEGIN:VEVENT
DTSTART;TZID=Europe/Paris:20251105T140000
DTEND;TZID=Europe/Paris:20251105T180000
DTSTAMP:20260422T181823
CREATED:20251022T085729Z
LAST-MODIFIED:20251022T085800Z
UID:6995-1762351200-1762365600@terra-preta.fr
SUMMARY:A la découverte de la faune de la mare
DESCRIPTION:Viens observer de près la vie cachée sous l’eau ! \nAu bord de la mare de l’Archipel des Salins\, découvre les petites bêtes aquatiques\, insectes qui y vivent. \nAvec des boîtes loupes et des fiches d’identification\, tu apprendras à reconnaître chaque espèce et à comprendre son rôle dans cet écosystème fascinant. \nUn atelier d’observation et de curiosité pour mieux connaître la biodiversité locale. \nPas d’horaire fixe : tu viens quand tu veux\, tu repars quand tu veux ! (Et c’est gratuit)
URL:https://terra-preta.fr/evenement/a-la-decouverte-de-la-faune-de-la-mare/
LOCATION:Archipel des Salins\, 1 place Gambetta\, Clermont-Ferrand\, 63000\, France
CATEGORIES:Animation,Atelier,Les mercredis aux Salins
ATTACH;FMTTYPE=image/jpeg:https://terra-preta.fr/wp-content/uploads/2025/04/23-e1761123431511.jpg
END:VEVENT
BEGIN:VEVENT
DTSTART;TZID=Europe/Paris:20251029T140000
DTEND;TZID=Europe/Paris:20251029T180000
DTSTAMP:20260422T181823
CREATED:20251021T122440Z
LAST-MODIFIED:20251021T122440Z
UID:6991-1761746400-1761760800@terra-preta.fr
SUMMARY:Atelier de création de mini-hôtels à insectes
DESCRIPTION:Le mercredi 29 octobre\, de 14h à 18h\, viens créer ton mini-hôtel à insectes avec des matériaux naturels et recyclés. \nPas d’horaire fixe : tu viens quand tu veux\, tu repars quand tu veux ! (Et c’est gratuit) \nRendez-vous à l’Archipel des Salins au 1 place Gambetta à Clermont-Ferrand. \nUne activité ludique et créative pour accueillir les insectes et favoriser la biodiversité !
URL:https://terra-preta.fr/evenement/atelier-de-creation-de-mini-hotels-a-insectes/
LOCATION:Archipel des Salins\, 1 place Gambetta\, Clermont-Ferrand\, 63000\, France
CATEGORIES:Animation,Atelier
ATTACH;FMTTYPE=image/jpeg:https://terra-preta.fr/wp-content/uploads/2025/08/Syrphus-ribesii.jpg
END:VEVENT
BEGIN:VEVENT
DTSTART;TZID=Europe/Paris:20251022T140000
DTEND;TZID=Europe/Paris:20251022T180000
DTSTAMP:20260422T181823
CREATED:20251021T122058Z
LAST-MODIFIED:20251021T122058Z
UID:6989-1761141600-1761156000@terra-preta.fr
SUMMARY:Atelier bombes de graines
DESCRIPTION:Le mercredi 22 octobre\, de 14h à 18h\, viens fabriquer tes bombes de graines à base d’argile\, de compost et de graines. \nAucune durée définir : tu viens quand tu veux\, tu repars quand tu veux ! (Pssst c’est gratuit) \nÇa se passe à l’Archipel des Salins\, au 1 place Gambetta à Clermont-Ferrand. \nUne activité simple et amusante pour faire pousser fleurs mellifères et bien d’autres plantes !
URL:https://terra-preta.fr/evenement/atelier-bombes-de-graines/
LOCATION:Archipel des Salins\, 1 place Gambetta\, Clermont-Ferrand\, 63000\, France
CATEGORIES:Animation,Atelier
ATTACH;FMTTYPE=image/jpeg:https://terra-preta.fr/wp-content/uploads/2025/04/3-1-e1761049014435.jpg
END:VEVENT
BEGIN:VEVENT
DTSTART;TZID=Europe/Paris:20250906T180000
DTEND;TZID=Europe/Paris:20250906T200000
DTSTAMP:20260422T181823
CREATED:20250903T151002Z
LAST-MODIFIED:20250903T151002Z
UID:6961-1757181600-1757188800@terra-preta.fr
SUMMARY:Repas convivial du samedi 6 septembre
DESCRIPTION:Après une belle journée passée au Forum des associations\, on t’invite à prolonger les échanges autour d’un repas convivial à l’Archipel des Salins ! \nC’est l’occasion parfaite pour démarrer la rentrée dans une ambiance détendue\, de rencontrer d’autres bénévoles\, habitant.es ou curieux.ses. Sans oublier de papoter autour d’un bon repas. Chacun.e peut ramener un petit quelque chose à partager (salé\, sucré\, boisson) et on s’occupe de créer une belle tablée. \nVenez comme vous êtes\, seul.e ou accompagné.e. Rendez-vous de 18h à 20h à l’Archipel des Salins (1 place Gambetta).
URL:https://terra-preta.fr/evenement/repas-convivial-du-samedi-6-septembre/
LOCATION:Archipel des Salins\, 1 place Gambetta\, Clermont-Ferrand\, 63000\, France
CATEGORIES:Fête,Rencontre conviviale
ATTACH;FMTTYPE=image/jpeg:https://terra-preta.fr/wp-content/uploads/2025/09/IMG_3199-Copie-300x200-1.jpg
END:VEVENT
BEGIN:VEVENT
DTSTART;TZID=Europe/Paris:20250906T100000
DTEND;TZID=Europe/Paris:20250906T170000
DTSTAMP:20260422T181823
CREATED:20250903T134049Z
LAST-MODIFIED:20250903T134049Z
UID:6954-1757152800-1757178000@terra-preta.fr
SUMMARY:On sera au Grand Forum des associations !
DESCRIPTION:Le samedi 7 septembre\, retrouve-nous au Jardin Lecoq de 10h à 17h à l’occasion du Grand Forum des Associations de la ville de Clermont-Ferrand. \nC’est le moment parfait pour : découvrir Terra Preta\, poser toutes tes questions\, participer à de petits ateliers sympas et pourquoi pas rejoindre l’aventure ! \nEt si tu as un peu de temps et l’envie de filer un coup de main\, on recherche des bénévoles pour nous aider à tenir le stand. Mais pas de stress\, tu ne seras pas seul.e et tu peux choisir le créneau qui t’arrange. \nViens nous voir\, même juste pour dire bonjour ! On te dit donc à samedi.
URL:https://terra-preta.fr/evenement/on-sera-au-grand-forum-des-associations/
LOCATION:Jardin Lecoq\, Angles boulevard François-Mitterrand\, avenue Vercingétorix et Cours Sablon.\, Clermont-Ferrand
CATEGORIES:Animation,Atelier,Fête,Stand de présentation
ATTACH;FMTTYPE=image/png:https://terra-preta.fr/wp-content/uploads/2025/09/visuel-bloc-660x482-318-x-168-px4.png
END:VEVENT
END:VCALENDAR