BEGIN:VCALENDAR
VERSION:2.0
PRODID:-//Terra Preta - ECPv6.15.17.1//NONSGML v1.0//EN
CALSCALE:GREGORIAN
METHOD:PUBLISH
X-ORIGINAL-URL:https://terra-preta.fr
X-WR-CALDESC:Évènements pour Terra Preta
REFRESH-INTERVAL;VALUE=DURATION:PT1H
X-Robots-Tag:noindex
X-PUBLISHED-TTL:PT1H
BEGIN:VTIMEZONE
TZID:Europe/Paris
BEGIN:DAYLIGHT
TZOFFSETFROM:+0100
TZOFFSETTO:+0200
TZNAME:CEST
DTSTART:20250330T010000
END:DAYLIGHT
BEGIN:STANDARD
TZOFFSETFROM:+0200
TZOFFSETTO:+0100
TZNAME:CET
DTSTART:20251026T010000
END:STANDARD
BEGIN:DAYLIGHT
TZOFFSETFROM:+0100
TZOFFSETTO:+0200
TZNAME:CEST
DTSTART:20260329T010000
END:DAYLIGHT
BEGIN:STANDARD
TZOFFSETFROM:+0200
TZOFFSETTO:+0100
TZNAME:CET
DTSTART:20261025T010000
END:STANDARD
BEGIN:DAYLIGHT
TZOFFSETFROM:+0100
TZOFFSETTO:+0200
TZNAME:CEST
DTSTART:20270328T010000
END:DAYLIGHT
BEGIN:STANDARD
TZOFFSETFROM:+0200
TZOFFSETTO:+0100
TZNAME:CET
DTSTART:20271031T010000
END:STANDARD
END:VTIMEZONE
BEGIN:VEVENT
DTSTART;TZID=Europe/Paris:20260304T143000
DTEND;TZID=Europe/Paris:20260304T160000
DTSTAMP:20260421T173926
CREATED:20260227T135451Z
LAST-MODIFIED:20260227T135451Z
UID:7172-1772634600-1772640000@terra-preta.fr
SUMMARY:Construction de nichoirs pour les moineaux\, une espèce protégée
DESCRIPTION:Lors de cet atelier\, nous aborderons la situation actuelle du moineau en milieu urbain et les raisons de sa diminution. Nous prendrons le temps de comprendre ses besoins spécifiques : type d’habitat\, hauteur d’installation\, orientation du nichoir\, période de nidification.\n\nNous construirons ensemble des nichoirs adaptés à cette espèce :\ndécouverte des outils\, assemblage des différentes pièces\, conseils techniques pour assurer solidité et durabilité\, explications sur l’entretien et le suivi des nichoirs.\n\nL’objectif est de permettre à chacun·e d’agir concrètement en faveur de la biodiversité locale.\n\nL’atelier est ouvert à tous.tes\, petit.es et grand.es ! (C’est gratuit et c’est sans réservation).
URL:https://terra-preta.fr/evenement/construction-de-nichoirs-pour-les-moineaux-une-espece-protegee-2/
LOCATION:Archipel des Salins\, 1 place Gambetta\, Clermont-Ferrand\, 63000\, France
CATEGORIES:Animation,Les mercredis aux Salins
ATTACH;FMTTYPE=image/png:https://terra-preta.fr/wp-content/uploads/2026/01/3.png
END:VEVENT
BEGIN:VEVENT
DTSTART;TZID=Europe/Paris:20260304T160000
DTEND;TZID=Europe/Paris:20260304T173000
DTSTAMP:20260421T173926
CREATED:20260227T135637Z
LAST-MODIFIED:20260227T135637Z
UID:7174-1772640000-1772645400@terra-preta.fr
SUMMARY:Construction de nichoirs pour les moineaux\, une espèce protégée
DESCRIPTION:Lors de cet atelier\, nous aborderons la situation actuelle du moineau en milieu urbain et les raisons de sa diminution. Nous prendrons le temps de comprendre ses besoins spécifiques : type d’habitat\, hauteur d’installation\, orientation du nichoir\, période de nidification.\n\nNous construirons ensemble des nichoirs adaptés à cette espèce :\ndécouverte des outils\, assemblage des différentes pièces\, conseils techniques pour assurer solidité et durabilité\, explications sur l’entretien et le suivi des nichoirs.\n\nL’objectif est de permettre à chacun·e d’agir concrètement en faveur de la biodiversité locale.\n\nL’atelier est ouvert à tous.tes\, petit.es et grand.es ! (C’est gratuit et c’est sans réservation).
URL:https://terra-preta.fr/evenement/construction-de-nichoirs-pour-les-moineaux-une-espece-protegee-3/
LOCATION:Archipel des Salins\, 1 place Gambetta\, Clermont-Ferrand\, 63000\, France
END:VEVENT
BEGIN:VEVENT
DTSTART;TZID=Europe/Paris:20260306T180000
DTEND;TZID=Europe/Paris:20260306T200000
DTSTAMP:20260421T173926
CREATED:20260127T134836Z
LAST-MODIFIED:20260127T134836Z
UID:7137-1772820000-1772827200@terra-preta.fr
SUMMARY:Moment à ne pas manquer : notre Assemblée Générale !
DESCRIPTION:On te donne rendez-vous pour notre Assemblée Générale\, qui aura lieu le vendredi 6 mars à 18h au Lieu-Dit (10 rue Fontgiève).\n\nC’est un moment important pour faire le point ensemble sur l’année écoulée et parler de tout ce qui arrive en 2026.\n\nAu programme :\n Présentation de l’association pour les nouveaux et nouvelles\n Retour sur nos projets et actions de 2025 : les ateliers\, les événements\, la dynamique bénévole\, les chantiers…\n Bilan financier\n Échanges sur les projets à venir : la reprise du compost (déjà d’actualité)\, la construction de la serre pédagogique et des chantiers participatifs\, les futurs ateliers et événements festifs.\n\n Ce sera aussi l’occasion d’élire ou de renouveler les membres du Conseil d’Administration. Si tu veux t’impliquer un peu plus\, c’est le bon moment pour te proposer !\n\nViens nombreux·ses pour faire vivre l’association avec nous !
URL:https://terra-preta.fr/evenement/moment-a-ne-pas-manquer-notre-assemblee-generale/
LOCATION:Lieu-Dit\, 10 Rue Fontgiève\, Clermont-Ferrand\, 63000\, France
CATEGORIES:Animation,Atelier,Fête
ATTACH;FMTTYPE=image/png:https://terra-preta.fr/wp-content/uploads/2026/01/Affiche-Evenement-Assemblee-Generale-Illustree-Coloree-Vert-Bleu41.png
ORGANIZER;CN="Association Terra Preta":MAILTO:contact@terra-preta.fr
END:VEVENT
END:VCALENDAR