BEGIN:VCALENDAR
VERSION:2.0
PRODID:-//Terra Preta - ECPv6.15.17.1//NONSGML v1.0//EN
CALSCALE:GREGORIAN
METHOD:PUBLISH
X-ORIGINAL-URL:https://terra-preta.fr
X-WR-CALDESC:Évènements pour Terra Preta
REFRESH-INTERVAL;VALUE=DURATION:PT1H
X-Robots-Tag:noindex
X-PUBLISHED-TTL:PT1H
BEGIN:VTIMEZONE
TZID:Europe/Paris
BEGIN:DAYLIGHT
TZOFFSETFROM:+0100
TZOFFSETTO:+0200
TZNAME:CEST
DTSTART:20240331T010000
END:DAYLIGHT
BEGIN:STANDARD
TZOFFSETFROM:+0200
TZOFFSETTO:+0100
TZNAME:CET
DTSTART:20241027T010000
END:STANDARD
BEGIN:DAYLIGHT
TZOFFSETFROM:+0100
TZOFFSETTO:+0200
TZNAME:CEST
DTSTART:20250330T010000
END:DAYLIGHT
BEGIN:STANDARD
TZOFFSETFROM:+0200
TZOFFSETTO:+0100
TZNAME:CET
DTSTART:20251026T010000
END:STANDARD
BEGIN:DAYLIGHT
TZOFFSETFROM:+0100
TZOFFSETTO:+0200
TZNAME:CEST
DTSTART:20260329T010000
END:DAYLIGHT
BEGIN:STANDARD
TZOFFSETFROM:+0200
TZOFFSETTO:+0100
TZNAME:CET
DTSTART:20261025T010000
END:STANDARD
END:VTIMEZONE
BEGIN:VEVENT
DTSTART;TZID=Europe/Paris:20251129T100000
DTEND;TZID=Europe/Paris:20251129T150000
DTSTAMP:20260424T121255
CREATED:20251125T153511Z
LAST-MODIFIED:20251125T153511Z
UID:7059-1764410400-1764428400@terra-preta.fr
SUMMARY:La Coop' des Dômes fête ses 7 ans... et on y sera !
DESCRIPTION:Le vendredi 29 novembre\, notre chère Coop’ des Dômes célèbre son septième anniversaire à partir de 10h\, et ouvre grand ses portes à toutes et tous pour une journée festive et conviviale ! \nAu programme : de la musique\, une gratiferia\, un partage de plats savoureux à prix libre\, et surtout l’occasion de retrouver celles et ceux qui font vivre ce projet coopératif engagé au cœur de Clermont. \n Mais c’est quoi\, la Coop’ des Dômes ?\nC’est une coopérative alimentaire militante\, ouverte à ses membres\, qui s’appuie sur des valeurs de solidarité\, d’écologie et d’autogestion. Un vrai lieu de vie et de luttes\, et on est très heureux·ses d’être de la partie pour souffler ses bougies  \n Terra Preta sera aussi de la fête !\nOn vous propose de rejoindre les bénévoles de Terra Preta à midi pour manger ensemble sur place\, profiter des festivités\, écouter de la musique\, flâner dans la gratiferia\, et trinquer à 7 belles années de coopération locale !\nUn moment parfait pour prendre part à la vie associative tout en se régalant. \nPuis après cette pause festive bien méritée…
URL:https://terra-preta.fr/evenement/la-coop-des-domes-fete-ses-7-ans-et-on-y-sera/
LOCATION:Magasin de la Coop des Dômes\, 9020 Route Nationale 9\, Cébazat\, 63118\, France
CATEGORIES:Animation,Fête
ATTACH;FMTTYPE=image/jpeg:https://terra-preta.fr/wp-content/uploads/2025/11/1000036049-e1764084859805.jpg
END:VEVENT
END:VCALENDAR