BEGIN:VCALENDAR
VERSION:2.0
PRODID:-//Terra Preta - ECPv6.15.17.1//NONSGML v1.0//EN
CALSCALE:GREGORIAN
METHOD:PUBLISH
X-WR-CALNAME:Terra Preta
X-ORIGINAL-URL:https://terra-preta.fr
X-WR-CALDESC:Évènements pour Terra Preta
REFRESH-INTERVAL;VALUE=DURATION:PT1H
X-Robots-Tag:noindex
X-PUBLISHED-TTL:PT1H
BEGIN:VTIMEZONE
TZID:Europe/Paris
BEGIN:DAYLIGHT
TZOFFSETFROM:+0100
TZOFFSETTO:+0200
TZNAME:CEST
DTSTART:20240331T010000
END:DAYLIGHT
BEGIN:STANDARD
TZOFFSETFROM:+0200
TZOFFSETTO:+0100
TZNAME:CET
DTSTART:20241027T010000
END:STANDARD
BEGIN:DAYLIGHT
TZOFFSETFROM:+0100
TZOFFSETTO:+0200
TZNAME:CEST
DTSTART:20250330T010000
END:DAYLIGHT
BEGIN:STANDARD
TZOFFSETFROM:+0200
TZOFFSETTO:+0100
TZNAME:CET
DTSTART:20251026T010000
END:STANDARD
BEGIN:DAYLIGHT
TZOFFSETFROM:+0100
TZOFFSETTO:+0200
TZNAME:CEST
DTSTART:20260329T010000
END:DAYLIGHT
BEGIN:STANDARD
TZOFFSETFROM:+0200
TZOFFSETTO:+0100
TZNAME:CET
DTSTART:20261025T010000
END:STANDARD
END:VTIMEZONE
BEGIN:VEVENT
DTSTART;TZID=Europe/Paris:20251014T180000
DTEND;TZID=Europe/Paris:20251014T203000
DTSTAMP:20260422T042652
CREATED:20250804T150900Z
LAST-MODIFIED:20250925T133938Z
UID:6866-1760464800-1760473800@terra-preta.fr
SUMMARY:Viens découvrir Terra Preta lors d'une soirée
DESCRIPTION:Tu te demandes ce qu’on fait exactement à Terra Preta ? Tu connais peut-être un peu l’association\, de nom ou de vue\, mais tu n’as jamais osé franchir la porte ? Ou alors tu aimerais bien t’impliquer\, mais tu ne sais pas trop par où commencer ? \nAlors note bien la date : mardi 14 octore à 18h à l’Archipel des Salins\, on organise une soirée découverte. \nAu programme : une présentation de l’association et de nos actions\, des mini-ateliers participatifs et on terminera par un apéro partagé. \nC’est gratuit et sans inscription et surtout l’occasion de faire connaissance.
URL:https://terra-preta.fr/evenement/viens-decouvrir-terra-preta-lors-dune-soiree/
LOCATION:Archipel des Salins\, 1 place Gambetta\, Clermont-Ferrand\, 63000\, France
CATEGORIES:Animation
ATTACH;FMTTYPE=image/png:https://terra-preta.fr/wp-content/uploads/2025/08/Affiche-evenement-pour-une-collecte-de-fonds-grace-a-une-soiree-caritative-Colore-Joyeux-Illustration-Ludique-Creatif-Vert-Jaune-bleu-et-rouge.png
END:VEVENT
END:VCALENDAR