BEGIN:VCALENDAR
VERSION:2.0
PRODID:-//Terra Preta - ECPv6.15.17.1//NONSGML v1.0//EN
CALSCALE:GREGORIAN
METHOD:PUBLISH
X-WR-CALNAME:Terra Preta
X-ORIGINAL-URL:https://terra-preta.fr
X-WR-CALDESC:Évènements pour Terra Preta
REFRESH-INTERVAL;VALUE=DURATION:PT1H
X-Robots-Tag:noindex
X-PUBLISHED-TTL:PT1H
BEGIN:VTIMEZONE
TZID:Europe/Paris
BEGIN:DAYLIGHT
TZOFFSETFROM:+0100
TZOFFSETTO:+0200
TZNAME:CEST
DTSTART:20240331T010000
END:DAYLIGHT
BEGIN:STANDARD
TZOFFSETFROM:+0200
TZOFFSETTO:+0100
TZNAME:CET
DTSTART:20241027T010000
END:STANDARD
BEGIN:DAYLIGHT
TZOFFSETFROM:+0100
TZOFFSETTO:+0200
TZNAME:CEST
DTSTART:20250330T010000
END:DAYLIGHT
BEGIN:STANDARD
TZOFFSETFROM:+0200
TZOFFSETTO:+0100
TZNAME:CET
DTSTART:20251026T010000
END:STANDARD
BEGIN:DAYLIGHT
TZOFFSETFROM:+0100
TZOFFSETTO:+0200
TZNAME:CEST
DTSTART:20260329T010000
END:DAYLIGHT
BEGIN:STANDARD
TZOFFSETFROM:+0200
TZOFFSETTO:+0100
TZNAME:CET
DTSTART:20261025T010000
END:STANDARD
END:VTIMEZONE
BEGIN:VEVENT
DTSTART;TZID=Europe/Paris:20251010T180000
DTEND;TZID=Europe/Paris:20251010T200000
DTSTAMP:20260422T042653
CREATED:20250929T153723Z
LAST-MODIFIED:20250929T153723Z
UID:6972-1760119200-1760126400@terra-preta.fr
SUMMARY:Terr'Apéro avec nos copain.es de Flax
DESCRIPTION:On te donne rendez-vous le vendredi 10 octobre à partir de 18h à l’Archipel des Salins au 1 place Gambetta à Clermont-Ferrand. Pourquoi ? \nPour une rencontre inter-association avec nos copain.es de Flax\, un café-textile basé à Clermont-Ferrand. \nLe but de cette soirée est de présenter chaque association\, nos projets\, nos actions (et bien d’autres choses)\, tout en papotant autour d’un verre. \nBonne humeur et convivialité garantie !! Que tu fasses partie ou non des associations présentes\,  viens nous rencontrer !
URL:https://terra-preta.fr/evenement/terrapero-avec-nos-copain-es-de-flax/
LOCATION:Archipel des Salins\, 1 place Gambetta\, Clermont-Ferrand\, 63000\, France
CATEGORIES:Animation,Fête
ATTACH;FMTTYPE=image/png:https://terra-preta.fr/wp-content/uploads/2025/09/Affiche-Annonce-Evenement-Soiree-Apero-Tapas-Illustre-Colore2.png
END:VEVENT
END:VCALENDAR