BEGIN:VCALENDAR
VERSION:2.0
PRODID:-//Terra Preta - ECPv6.15.17.1//NONSGML v1.0//EN
CALSCALE:GREGORIAN
METHOD:PUBLISH
X-ORIGINAL-URL:https://terra-preta.fr
X-WR-CALDESC:Évènements pour Terra Preta
REFRESH-INTERVAL;VALUE=DURATION:PT1H
X-Robots-Tag:noindex
X-PUBLISHED-TTL:PT1H
BEGIN:VTIMEZONE
TZID:Europe/Paris
BEGIN:DAYLIGHT
TZOFFSETFROM:+0100
TZOFFSETTO:+0200
TZNAME:CEST
DTSTART:20240331T010000
END:DAYLIGHT
BEGIN:STANDARD
TZOFFSETFROM:+0200
TZOFFSETTO:+0100
TZNAME:CET
DTSTART:20241027T010000
END:STANDARD
BEGIN:DAYLIGHT
TZOFFSETFROM:+0100
TZOFFSETTO:+0200
TZNAME:CEST
DTSTART:20250330T010000
END:DAYLIGHT
BEGIN:STANDARD
TZOFFSETFROM:+0200
TZOFFSETTO:+0100
TZNAME:CET
DTSTART:20251026T010000
END:STANDARD
BEGIN:DAYLIGHT
TZOFFSETFROM:+0100
TZOFFSETTO:+0200
TZNAME:CEST
DTSTART:20260329T010000
END:DAYLIGHT
BEGIN:STANDARD
TZOFFSETFROM:+0200
TZOFFSETTO:+0100
TZNAME:CET
DTSTART:20261025T010000
END:STANDARD
END:VTIMEZONE
BEGIN:VEVENT
DTSTART;TZID=Europe/Paris:20251004T180000
DTEND;TZID=Europe/Paris:20251004T180000
DTSTAMP:20260422T004551
CREATED:20250804T151118Z
LAST-MODIFIED:20250804T151605Z
UID:6868-1759600800-1759600800@terra-preta.fr
SUMMARY:Terra musicale\, une soirée pour faire vibrer l'Archipel
DESCRIPTION:Viens faire vibrer l’Archipel ! \nQue tu sois musicien.ne confirmé.e\, débutant.e enthousiaste ou simple amateur.ice de belles ambiances\, cette soirée est faire pour toi. \nOn te donne rendez-vous le samedi 4 octobre à 18h à l’Archipel pour une toute nouvelle soirée Terra Musicale ! \nLe principe est simple… tu joues d’un instrument ? Apporte-le\, que ce soit pour une impro\, un solo ou un petit boeuf en groupe. Tu débutes ? C’est parfait\, viens tester\, t’exprimer et t’amuser. Tu ne joues pas ? Tu es aussi bienvenu.e pour écouter et te laisser porter par la musique. \nEt comme toujours\, on finit la soirée en beauté autour d’un repas convivial (prix libre ou ramène un petit quelque chose).
URL:https://terra-preta.fr/evenement/terra-musicale-une-soiree-pour-faire-vibrer-larchipel/
LOCATION:Archipel des Salins\, 1 place Gambetta\, Clermont-Ferrand\, 63000\, France
CATEGORIES:Animation,Fête
ATTACH;FMTTYPE=image/png:https://terra-preta.fr/wp-content/uploads/2025/07/Affiche-Terra-Musicale-2.png
END:VEVENT
END:VCALENDAR