BEGIN:VCALENDAR
VERSION:2.0
PRODID:-//Terra Preta - ECPv6.15.17.1//NONSGML v1.0//EN
CALSCALE:GREGORIAN
METHOD:PUBLISH
X-ORIGINAL-URL:https://terra-preta.fr
X-WR-CALDESC:Évènements pour Terra Preta
REFRESH-INTERVAL;VALUE=DURATION:PT1H
X-Robots-Tag:noindex
X-PUBLISHED-TTL:PT1H
BEGIN:VTIMEZONE
TZID:Europe/Paris
BEGIN:DAYLIGHT
TZOFFSETFROM:+0100
TZOFFSETTO:+0200
TZNAME:CEST
DTSTART:20240331T010000
END:DAYLIGHT
BEGIN:STANDARD
TZOFFSETFROM:+0200
TZOFFSETTO:+0100
TZNAME:CET
DTSTART:20241027T010000
END:STANDARD
BEGIN:DAYLIGHT
TZOFFSETFROM:+0100
TZOFFSETTO:+0200
TZNAME:CEST
DTSTART:20250330T010000
END:DAYLIGHT
BEGIN:STANDARD
TZOFFSETFROM:+0200
TZOFFSETTO:+0100
TZNAME:CET
DTSTART:20251026T010000
END:STANDARD
BEGIN:DAYLIGHT
TZOFFSETFROM:+0100
TZOFFSETTO:+0200
TZNAME:CEST
DTSTART:20260329T010000
END:DAYLIGHT
BEGIN:STANDARD
TZOFFSETFROM:+0200
TZOFFSETTO:+0100
TZNAME:CET
DTSTART:20261025T010000
END:STANDARD
END:VTIMEZONE
BEGIN:VEVENT
DTSTART;TZID=Europe/Paris:20250831T173000
DTEND;TZID=Europe/Paris:20250831T173000
DTSTAMP:20260421T230314
CREATED:20250729T104252Z
LAST-MODIFIED:20250729T110838Z
UID:6856-1756661400-1756661400@terra-preta.fr
SUMMARY:Réunion d'information du projet de serre maraîchère pédagogique
DESCRIPTION:Si tu ne le savais pas\, nous souhaitons participer au Budget Écologique et Citoyen 2025-2026 avec un beau projet. \nOn aimerait construire une serre maraîchère pédagogique\, ouverte à tous·tes\, petits·es ou grands·es\, pour apprendre à cultiver\, à comprendre le vivant et à partager ensemble. \nC’est pourquoi on t’invite le dimanche 31 août à 17h30 à l’Archipel des Salins pour une réunion d’information ouverte à tous et toutes : bénévoles\, adhérent.es\, voisin.es curieux.ses. \nL’objectif ? Te présenter le projet de serre maraîchère pédagogique. Avec au programme : présentation par Félix ROUDANT le designer-architecte du projet\, découverte de l’architecture et des techniques utilisées\, explication de l’organisation des chantiers participatifs pour la construction. \nEt parce que c’est toujours plus sympa\, on finira par un apéro dînatoire\, donc ramène un petit quelque chose à partager.
URL:https://terra-preta.fr/evenement/reunion-dinformation-du-projet-de-serre-maraichere-pedagogique/
LOCATION:Archipel des Salins\, 1 place Gambetta\, Clermont-Ferrand\, 63000\, France
CATEGORIES:Animation
ATTACH;FMTTYPE=image/png:https://terra-preta.fr/wp-content/uploads/2025/07/Affiche-reunion-serre.png
END:VEVENT
END:VCALENDAR