BEGIN:VCALENDAR
VERSION:2.0
PRODID:-//Terra Preta - ECPv6.15.17.1//NONSGML v1.0//EN
CALSCALE:GREGORIAN
METHOD:PUBLISH
X-WR-CALNAME:Terra Preta
X-ORIGINAL-URL:https://terra-preta.fr
X-WR-CALDESC:Évènements pour Terra Preta
REFRESH-INTERVAL;VALUE=DURATION:PT1H
X-Robots-Tag:noindex
X-PUBLISHED-TTL:PT1H
BEGIN:VTIMEZONE
TZID:Europe/Paris
BEGIN:DAYLIGHT
TZOFFSETFROM:+0100
TZOFFSETTO:+0200
TZNAME:CEST
DTSTART:20240331T010000
END:DAYLIGHT
BEGIN:STANDARD
TZOFFSETFROM:+0200
TZOFFSETTO:+0100
TZNAME:CET
DTSTART:20241027T010000
END:STANDARD
BEGIN:DAYLIGHT
TZOFFSETFROM:+0100
TZOFFSETTO:+0200
TZNAME:CEST
DTSTART:20250330T010000
END:DAYLIGHT
BEGIN:STANDARD
TZOFFSETFROM:+0200
TZOFFSETTO:+0100
TZNAME:CET
DTSTART:20251026T010000
END:STANDARD
BEGIN:DAYLIGHT
TZOFFSETFROM:+0100
TZOFFSETTO:+0200
TZNAME:CEST
DTSTART:20260329T010000
END:DAYLIGHT
BEGIN:STANDARD
TZOFFSETFROM:+0200
TZOFFSETTO:+0100
TZNAME:CET
DTSTART:20261025T010000
END:STANDARD
END:VTIMEZONE
BEGIN:VEVENT
DTSTART;TZID=Europe/Paris:20250604T140000
DTEND;TZID=Europe/Paris:20250604T180000
DTSTAMP:20260421T193312
CREATED:20250527T134741Z
LAST-MODIFIED:20250527T134741Z
UID:6673-1749045600-1749060000@terra-preta.fr
SUMMARY:Atelier création d’œuvres végétales (à ramener chez soi)
DESCRIPTION:Des feuilles séchées\, des fleurs fraîches\, de la paille\, de l’herbe… voilà la base de cet atelier. Sans oublier le supplément de colle naturelle maison (on vous donnera la recette). \nMets toi dans la peau d’un artiste et viens créer ta propre œuvre végétale que tu pourras ramener chez toi ! \nCet atelier aura lieu à l’Archipel des Salins durant notre permanence de 14h à 18h. Tu viens et tu repars quand tu veux.
URL:https://terra-preta.fr/evenement/atelier-creation-doeuvres-vegetales-a-ramener-chez-soi/
LOCATION:Archipel des Salins\, 1 place Gambetta\, Clermont-Ferrand\, 63000\, France
CATEGORIES:Animation,Atelier,Les mercredis aux Salins
ATTACH;FMTTYPE=image/jpeg:https://terra-preta.fr/wp-content/uploads/2025/03/17410161771171-scaled-e1741017213450.jpg
END:VEVENT
BEGIN:VEVENT
DTSTART;TZID=Europe/Paris:20250604T140000
DTEND;TZID=Europe/Paris:20250604T180000
DTSTAMP:20260421T193312
CREATED:20250527T140252Z
LAST-MODIFIED:20250527T140252Z
UID:6678-1749045600-1749060000@terra-preta.fr
SUMMARY:Atelier création de maillet en bois
DESCRIPTION:On te propose de venir fabriquer ton maillet en bois ou simplement découvrir ce nouvel outil. \nC’est quoi un maillet ?  Un maillet en bois est un outil d’usage général principalement utilisé dans les métiers de la menuiserie. Les maillets en bois sont bien connus pour leur structure légère et simple et leur grande disponibilité. Ils sont l’un des outils les plus faciles à utiliser disponibles. Structure Un maillet en bois a une structure très simple qui le rend facile à fabriquer et à réparer. \nCet atelier est gratuit et aura lieu à notre Atelier Bois Coopératif situé au 4 rue Marx Dormoy\, de 14h à 18h. \nTu viens et tu repars quand tu veux !
URL:https://terra-preta.fr/evenement/atelier-creation-de-maillet-en-bois/
LOCATION:Atelier Bois Coopératif\, 4\, avenue Marx Dormoy\, Clermont-Ferrand\, 63000\, France
CATEGORIES:Animation,Atelier,Les mercredis aux Salins,Permanence
ATTACH;FMTTYPE=image/png:https://terra-preta.fr/wp-content/uploads/2025/05/12.png
END:VEVENT
END:VCALENDAR