BEGIN:VCALENDAR
VERSION:2.0
PRODID:-//Terra Preta - ECPv6.15.17.1//NONSGML v1.0//EN
CALSCALE:GREGORIAN
METHOD:PUBLISH
X-ORIGINAL-URL:https://terra-preta.fr
X-WR-CALDESC:Évènements pour Terra Preta
REFRESH-INTERVAL;VALUE=DURATION:PT1H
X-Robots-Tag:noindex
X-PUBLISHED-TTL:PT1H
BEGIN:VTIMEZONE
TZID:Europe/Paris
BEGIN:DAYLIGHT
TZOFFSETFROM:+0100
TZOFFSETTO:+0200
TZNAME:CEST
DTSTART:20240331T010000
END:DAYLIGHT
BEGIN:STANDARD
TZOFFSETFROM:+0200
TZOFFSETTO:+0100
TZNAME:CET
DTSTART:20241027T010000
END:STANDARD
BEGIN:DAYLIGHT
TZOFFSETFROM:+0100
TZOFFSETTO:+0200
TZNAME:CEST
DTSTART:20250330T010000
END:DAYLIGHT
BEGIN:STANDARD
TZOFFSETFROM:+0200
TZOFFSETTO:+0100
TZNAME:CET
DTSTART:20251026T010000
END:STANDARD
BEGIN:DAYLIGHT
TZOFFSETFROM:+0100
TZOFFSETTO:+0200
TZNAME:CEST
DTSTART:20260329T010000
END:DAYLIGHT
BEGIN:STANDARD
TZOFFSETFROM:+0200
TZOFFSETTO:+0100
TZNAME:CET
DTSTART:20261025T010000
END:STANDARD
END:VTIMEZONE
BEGIN:VEVENT
DTSTART;TZID=Europe/Paris:20250409T140000
DTEND;TZID=Europe/Paris:20250409T170000
DTSTAMP:20260421T110718
CREATED:20250327T134759Z
LAST-MODIFIED:20250327T134759Z
UID:6501-1744207200-1744218000@terra-preta.fr
SUMMARY:Identification de la faune du compost
DESCRIPTION:Jouons les explorateurs à l’Archipel. \nAvec nos boîtes loupes\, notre microscope et surtout nos clés de détermination\, nous partirons à la recherche des petites bêtes du compost. \nNos découvertes seront ensuite partagées dans un article que nous publierons sur le site.
URL:https://terra-preta.fr/evenement/identification-de-la-faune-du-compost/
LOCATION:Archipel des Salins\, 1 place Gambetta\, Clermont-Ferrand\, 63000\, France
CATEGORIES:Atelier,Les mercredis aux Salins
ATTACH;FMTTYPE=image/jpeg:https://terra-preta.fr/wp-content/uploads/2025/03/1743077738506-scaled-e1743077946119.jpg
END:VEVENT
END:VCALENDAR