BEGIN:VCALENDAR
VERSION:2.0
PRODID:-//Terra Preta - ECPv6.15.17.1//NONSGML v1.0//EN
CALSCALE:GREGORIAN
METHOD:PUBLISH
X-ORIGINAL-URL:https://terra-preta.fr
X-WR-CALDESC:Évènements pour Terra Preta
REFRESH-INTERVAL;VALUE=DURATION:PT1H
X-Robots-Tag:noindex
X-PUBLISHED-TTL:PT1H
BEGIN:VTIMEZONE
TZID:Europe/Paris
BEGIN:DAYLIGHT
TZOFFSETFROM:+0100
TZOFFSETTO:+0200
TZNAME:CEST
DTSTART:20230326T010000
END:DAYLIGHT
BEGIN:STANDARD
TZOFFSETFROM:+0200
TZOFFSETTO:+0100
TZNAME:CET
DTSTART:20231029T010000
END:STANDARD
BEGIN:DAYLIGHT
TZOFFSETFROM:+0100
TZOFFSETTO:+0200
TZNAME:CEST
DTSTART:20240331T010000
END:DAYLIGHT
BEGIN:STANDARD
TZOFFSETFROM:+0200
TZOFFSETTO:+0100
TZNAME:CET
DTSTART:20241027T010000
END:STANDARD
BEGIN:DAYLIGHT
TZOFFSETFROM:+0100
TZOFFSETTO:+0200
TZNAME:CEST
DTSTART:20250330T010000
END:DAYLIGHT
BEGIN:STANDARD
TZOFFSETFROM:+0200
TZOFFSETTO:+0100
TZNAME:CET
DTSTART:20251026T010000
END:STANDARD
END:VTIMEZONE
BEGIN:VEVENT
DTSTART;TZID=Europe/Paris:20241007T143000
DTEND;TZID=Europe/Paris:20241007T180000
DTSTAMP:20260419T220358
CREATED:20240911T091812Z
LAST-MODIFIED:20241003T114625Z
UID:5951-1728311400-1728324000@terra-preta.fr
SUMMARY:Annulé - Entretien et identification - Flore
DESCRIPTION:Annulé ! Mais sera bientôt reprogrammé. \nSuite à nos premières installations de panneaux d’identifications de plantes\, on continue notre travail de fourmi. \nOn met en évidence les plantes sélectionnées (on leur fait de la place\, on aménage)\, on créé des outils collaboratifs pour échanger/partager les photos et permettre d’identifier de nouvelles plantes et enfin on recrée des nouveaux panneaux que l’on pourra continuer d’installer à l’Archipel. \nEt juste avant\, on aura profité d’un bon repas partagé\, comme tous les lundis 😉
URL:https://terra-preta.fr/evenement/entretien-et-identification-flore/
LOCATION:Archipel des Salins\, 1 place Gambetta\, Clermont-Ferrand\, 63000\, France
CATEGORIES:Animation,Atelier,Équipage Jardinage
ATTACH;FMTTYPE=image/png:https://terra-preta.fr/wp-content/uploads/2024/09/helichryse.png
ORGANIZER;CN="Association Terra Preta":MAILTO:contact@terra-preta.fr
END:VEVENT
END:VCALENDAR