BEGIN:VCALENDAR
VERSION:2.0
PRODID:-//Terra Preta - ECPv6.15.17.1//NONSGML v1.0//EN
CALSCALE:GREGORIAN
METHOD:PUBLISH
X-ORIGINAL-URL:https://terra-preta.fr
X-WR-CALDESC:Évènements pour Terra Preta
REFRESH-INTERVAL;VALUE=DURATION:PT1H
X-Robots-Tag:noindex
X-PUBLISHED-TTL:PT1H
BEGIN:VTIMEZONE
TZID:Europe/Paris
BEGIN:DAYLIGHT
TZOFFSETFROM:+0100
TZOFFSETTO:+0200
TZNAME:CEST
DTSTART:20230326T010000
END:DAYLIGHT
BEGIN:STANDARD
TZOFFSETFROM:+0200
TZOFFSETTO:+0100
TZNAME:CET
DTSTART:20231029T010000
END:STANDARD
BEGIN:DAYLIGHT
TZOFFSETFROM:+0100
TZOFFSETTO:+0200
TZNAME:CEST
DTSTART:20240331T010000
END:DAYLIGHT
BEGIN:STANDARD
TZOFFSETFROM:+0200
TZOFFSETTO:+0100
TZNAME:CET
DTSTART:20241027T010000
END:STANDARD
BEGIN:DAYLIGHT
TZOFFSETFROM:+0100
TZOFFSETTO:+0200
TZNAME:CEST
DTSTART:20250330T010000
END:DAYLIGHT
BEGIN:STANDARD
TZOFFSETFROM:+0200
TZOFFSETTO:+0100
TZNAME:CET
DTSTART:20251026T010000
END:STANDARD
END:VTIMEZONE
BEGIN:VEVENT
DTSTART;TZID=Europe/Paris:20240930T143000
DTEND;TZID=Europe/Paris:20240930T170000
DTSTAMP:20260419T234325
CREATED:20240925T103000Z
LAST-MODIFIED:20240925T103000Z
UID:5963-1727706600-1727715600@terra-preta.fr
SUMMARY:Aménagement d'une spirale aromatique 3
DESCRIPTION:Ça y est : on est entré dans le dur… \nAprès avoir défini sur un plan la forme et les envies pour notre spirale\, nous avons fait son tracé au sol\, enlevé l’herbe et disposé les premières pierres.\nNous allons prendre la terre dans l’allée juste à côté pour avoir une « terre pauvre » dans la spirale. La terre enlevée sera remplacée par du compost (ben oui\, chez nous la terre pauvre se fait rare\, par contre le compost on en a plein\, problème de riches :D) \nSi vous souhaitez nous aider pour continuer l’installation\, rendez-vous lundi prochain !
URL:https://terra-preta.fr/evenement/amenagement-dune-spirale-aromatique-3/
LOCATION:Archipel des Salins\, 1 place Gambetta\, Clermont-Ferrand\, 63000\, France
CATEGORIES:Animation,Atelier
ATTACH;FMTTYPE=image/jpeg:https://terra-preta.fr/wp-content/uploads/2024/09/SpiraleAromatique.jpg
ORGANIZER;CN="Association Terra Preta":MAILTO:contact@terra-preta.fr
END:VEVENT
END:VCALENDAR