BEGIN:VCALENDAR
VERSION:2.0
PRODID:-//Terra Preta - ECPv6.15.17.1//NONSGML v1.0//EN
CALSCALE:GREGORIAN
METHOD:PUBLISH
X-WR-CALNAME:Terra Preta
X-ORIGINAL-URL:https://terra-preta.fr
X-WR-CALDESC:Évènements pour Terra Preta
REFRESH-INTERVAL;VALUE=DURATION:PT1H
X-Robots-Tag:noindex
X-PUBLISHED-TTL:PT1H
BEGIN:VTIMEZONE
TZID:Europe/Paris
BEGIN:DAYLIGHT
TZOFFSETFROM:+0100
TZOFFSETTO:+0200
TZNAME:CEST
DTSTART:20230326T010000
END:DAYLIGHT
BEGIN:STANDARD
TZOFFSETFROM:+0200
TZOFFSETTO:+0100
TZNAME:CET
DTSTART:20231029T010000
END:STANDARD
BEGIN:DAYLIGHT
TZOFFSETFROM:+0100
TZOFFSETTO:+0200
TZNAME:CEST
DTSTART:20240331T010000
END:DAYLIGHT
BEGIN:STANDARD
TZOFFSETFROM:+0200
TZOFFSETTO:+0100
TZNAME:CET
DTSTART:20241027T010000
END:STANDARD
BEGIN:DAYLIGHT
TZOFFSETFROM:+0100
TZOFFSETTO:+0200
TZNAME:CEST
DTSTART:20250330T010000
END:DAYLIGHT
BEGIN:STANDARD
TZOFFSETFROM:+0200
TZOFFSETTO:+0100
TZNAME:CET
DTSTART:20251026T010000
END:STANDARD
END:VTIMEZONE
BEGIN:VEVENT
DTSTART;TZID=Europe/Paris:20240608T140000
DTEND;TZID=Europe/Paris:20240608T180000
DTSTAMP:20260420T064021
CREATED:20240513T103019Z
LAST-MODIFIED:20240620T094501Z
UID:5586-1717855200-1717869600@terra-preta.fr
SUMMARY:Végétalisation du Lieu-Dit et refuges de la terrasse
DESCRIPTION:Le samedi 08 juin de 14h à 18h\, venez participer à la végétalisation du Lieu-Dit sur sa terrasse et sa transformation en refuge pour la biodiversité avec l’association Terra Preta et la Mallette Urbaine. \nNous vous proposons\, lors de cet atelier\, d’installer des plants\, boutures et semis\, d’accrocher des nichoirs et hôtels à insectes\, ainsi que de participer à un petit jeu d’installation de panneaux pédagogiques. \nL’objectif est de créer un refuge pour la faune et la flore de notre ville\, en mettant en valeur la végétation spontanée de la terrasse du Lieu-Dit et de la renforcer en installant des abris pour la faune ainsi que des plantes indigènes et/ou utiles à l’humain.\nEn l’associant à l’installation de panneaux pédagogiques\, donnant des informations sur les plantes visibles\, nous espérons transmettre des informations aux lecteurices et donner envie de le reproduire chez soi ou sur son lieu de travail (ou ailleurs !). \nChaque îlot de verdure créé\, quel que soit sa taille\, maillera notre ville de petits oasis pour permettre l’alimentation\, le refuge\, la reproduction et l’essaimage vers un autre îlot proche. Nos actions\, si petites soient-elles comptent ! \nCet atelier est ouvert à toutes et tous : \n\nde 14h à 16h : plantations\, installation des barrières et nichoirs/hôtels à insectes\nde 16h à 18h : jeu reconnaître les plantes (installation de panneaux)  et identification faune et flore\n\nGratuit sur inscription : mallette.urbaine@gmail.com \nLes places sont limitées à 10\, inscrivez-vous vite!
URL:https://terra-preta.fr/evenement/vegetalisation-et-refuges-sur-la-terrasse-du-lieu-dit/
LOCATION:Lieu-Dit\, 10 Rue Fontgiève\, Clermont-Ferrand\, 63000\, France
CATEGORIES:Animation,Atelier
ATTACH;FMTTYPE=image/jpeg:https://terra-preta.fr/wp-content/uploads/2024/05/AFFICHE-8-juin-scaled.jpg
ORGANIZER;CN="Mallette Urbaine":MAILTO:mallette.urbaine@gmail.com
END:VEVENT
END:VCALENDAR