BEGIN:VCALENDAR
VERSION:2.0
PRODID:-//Terra Preta - ECPv6.15.17.1//NONSGML v1.0//EN
CALSCALE:GREGORIAN
METHOD:PUBLISH
X-ORIGINAL-URL:https://terra-preta.fr
X-WR-CALDESC:Évènements pour Terra Preta
REFRESH-INTERVAL;VALUE=DURATION:PT1H
X-Robots-Tag:noindex
X-PUBLISHED-TTL:PT1H
BEGIN:VTIMEZONE
TZID:Europe/Paris
BEGIN:DAYLIGHT
TZOFFSETFROM:+0100
TZOFFSETTO:+0200
TZNAME:CEST
DTSTART:20230326T010000
END:DAYLIGHT
BEGIN:STANDARD
TZOFFSETFROM:+0200
TZOFFSETTO:+0100
TZNAME:CET
DTSTART:20231029T010000
END:STANDARD
BEGIN:DAYLIGHT
TZOFFSETFROM:+0100
TZOFFSETTO:+0200
TZNAME:CEST
DTSTART:20240331T010000
END:DAYLIGHT
BEGIN:STANDARD
TZOFFSETFROM:+0200
TZOFFSETTO:+0100
TZNAME:CET
DTSTART:20241027T010000
END:STANDARD
BEGIN:DAYLIGHT
TZOFFSETFROM:+0100
TZOFFSETTO:+0200
TZNAME:CEST
DTSTART:20250330T010000
END:DAYLIGHT
BEGIN:STANDARD
TZOFFSETFROM:+0200
TZOFFSETTO:+0100
TZNAME:CET
DTSTART:20251026T010000
END:STANDARD
END:VTIMEZONE
BEGIN:VEVENT
DTSTART;TZID=Europe/Paris:20240525T100000
DTEND;TZID=Europe/Paris:20240525T210000
DTSTAMP:20260420T084432
CREATED:20240409T154226Z
LAST-MODIFIED:20240507T141604Z
UID:5452-1716631200-1716670800@terra-preta.fr
SUMMARY:Garden Party à Aubière
DESCRIPTION:Terra Preta participe à l’évènement organisé par le VALTOM « Du jardin à l’assiette ! Garden Party » de 10h à 21h au  Complexe sportif Paul Bourzac à Aubière. \nUne animation vous sera proposée pour construire vos propres hôtels à insectes à installer au jardin\, ou sur une terrasse/balcon/bord de fenêtre. Chaque abris et espace de verdure\, mêmes minimes\, sont importants pour permettre la diffusion et la protection des insectes\, qui rappelons le sont actuellement cruellement menacés (et par effet rebond menacent bien d’autres êtres vivants dont l’humain. \nLa ville est un véritable désert pour eux\,  il n’est donc pas inutile de proposer ces petits abris qui leurs permettent de faire des sauts de puces\, de trouver un gîte (et si possible un couvert) et ainsi de conforter leur survie. \nNotre animation de construction d’abris aura lieu de \nAffiche Garden Party
URL:https://terra-preta.fr/evenement/garden-party-a-aubiere/
LOCATION:avenue Jean Moulin 63170 Aubière\, avenue Jean Moulin\, Aubière\, 63170\, France
CATEGORIES:Animation
ATTACH;FMTTYPE=image/jpeg:https://terra-preta.fr/wp-content/uploads/2024/04/BanGarden_750x375_acf_cropped.jpg
END:VEVENT
END:VCALENDAR