BEGIN:VCALENDAR
VERSION:2.0
PRODID:-//Terra Preta - ECPv6.15.17.1//NONSGML v1.0//EN
CALSCALE:GREGORIAN
METHOD:PUBLISH
X-WR-CALNAME:Terra Preta
X-ORIGINAL-URL:https://terra-preta.fr
X-WR-CALDESC:Évènements pour Terra Preta
REFRESH-INTERVAL;VALUE=DURATION:PT1H
X-Robots-Tag:noindex
X-PUBLISHED-TTL:PT1H
BEGIN:VTIMEZONE
TZID:Europe/Paris
BEGIN:DAYLIGHT
TZOFFSETFROM:+0100
TZOFFSETTO:+0200
TZNAME:CEST
DTSTART:20230326T010000
END:DAYLIGHT
BEGIN:STANDARD
TZOFFSETFROM:+0200
TZOFFSETTO:+0100
TZNAME:CET
DTSTART:20231029T010000
END:STANDARD
BEGIN:DAYLIGHT
TZOFFSETFROM:+0100
TZOFFSETTO:+0200
TZNAME:CEST
DTSTART:20240331T010000
END:DAYLIGHT
BEGIN:STANDARD
TZOFFSETFROM:+0200
TZOFFSETTO:+0100
TZNAME:CET
DTSTART:20241027T010000
END:STANDARD
BEGIN:DAYLIGHT
TZOFFSETFROM:+0100
TZOFFSETTO:+0200
TZNAME:CEST
DTSTART:20250330T010000
END:DAYLIGHT
BEGIN:STANDARD
TZOFFSETFROM:+0200
TZOFFSETTO:+0100
TZNAME:CET
DTSTART:20251026T010000
END:STANDARD
END:VTIMEZONE
BEGIN:VEVENT
DTSTART;TZID=Europe/Paris:20240327T140000
DTEND;TZID=Europe/Paris:20240327T180000
DTSTAMP:20260422T124059
CREATED:20240221T112543Z
LAST-MODIFIED:20240221T113438Z
UID:5301-1711548000-1711562400@terra-preta.fr
SUMMARY:Atelier de semis et bouture
DESCRIPTION:On recommence pour une nouvelle session de semis (bouture\, marcotte\, tout est possible). \nPréparation des semis. On tamise du compost\, on fait un bon mélange avec du sable et de la terre pour faire un lit de semis. Il faudra ensuite sélectionner les graines à faire pousser parmi tout ce que l’association possède. On ajoute de l’eau et on met tout ça dans la serre. Il est possible au passage de faire quelques pots pour les emmener chez soi. \nEt voilà ! Il ne reste plus qu’à régulièrement arroser et à observer pousser les graines ! C’est l’occasion de revenir pour regarder tout ça 🙂 \nCet atelier est ouvert à toutes et tous\, pas de restriction d’age\, c’est gratuit et il n’y a pas d’inscription. Il suffit de venir pour une 1/2 heure ou plus\, ou moins…
URL:https://terra-preta.fr/evenement/atelier-de-semis-et-bouture/
LOCATION:Archipel des Salins\, 1 place Gambetta\, Clermont-Ferrand\, 63000\, France
CATEGORIES:Animation,Les mercredis aux Salins
ATTACH;FMTTYPE=image/png:https://terra-preta.fr/wp-content/uploads/2020/03/schéma-marcotte-tige-souple.png
ORGANIZER;CN="Association Terra Preta":MAILTO:contact@terra-preta.fr
END:VEVENT
END:VCALENDAR