BEGIN:VCALENDAR
VERSION:2.0
PRODID:-//Terra Preta - ECPv6.15.17.1//NONSGML v1.0//EN
CALSCALE:GREGORIAN
METHOD:PUBLISH
X-WR-CALNAME:Terra Preta
X-ORIGINAL-URL:https://terra-preta.fr
X-WR-CALDESC:Évènements pour Terra Preta
REFRESH-INTERVAL;VALUE=DURATION:PT1H
X-Robots-Tag:noindex
X-PUBLISHED-TTL:PT1H
BEGIN:VTIMEZONE
TZID:Europe/Paris
BEGIN:DAYLIGHT
TZOFFSETFROM:+0100
TZOFFSETTO:+0200
TZNAME:CEST
DTSTART:20230326T010000
END:DAYLIGHT
BEGIN:STANDARD
TZOFFSETFROM:+0200
TZOFFSETTO:+0100
TZNAME:CET
DTSTART:20231029T010000
END:STANDARD
BEGIN:DAYLIGHT
TZOFFSETFROM:+0100
TZOFFSETTO:+0200
TZNAME:CEST
DTSTART:20240331T010000
END:DAYLIGHT
BEGIN:STANDARD
TZOFFSETFROM:+0200
TZOFFSETTO:+0100
TZNAME:CET
DTSTART:20241027T010000
END:STANDARD
BEGIN:DAYLIGHT
TZOFFSETFROM:+0100
TZOFFSETTO:+0200
TZNAME:CEST
DTSTART:20250330T010000
END:DAYLIGHT
BEGIN:STANDARD
TZOFFSETFROM:+0200
TZOFFSETTO:+0100
TZNAME:CET
DTSTART:20251026T010000
END:STANDARD
END:VTIMEZONE
BEGIN:VEVENT
DTSTART;TZID=Europe/Paris:20240325T150000
DTEND;TZID=Europe/Paris:20240325T170000
DTSTAMP:20260422T142158
CREATED:20240221T121357Z
LAST-MODIFIED:20240320T164511Z
UID:5327-1711378800-1711386000@terra-preta.fr
SUMMARY:Atelier fabrication de nichoirs
DESCRIPTION:Piou\, piou à toutes et à tous !! \nVenez nous aider à fabriquer un ou des nichoirs pour nous aider à refaire nos stocks et apprendre à bricoler. Je vous donne rendez vous le lundi 25 mars de 15h à 17h à l’Atelier Bois Coopératif. Cet atelier gratuit est ouvert à tous publics et sans inscription !! \nÀ vos marteaux… prêt ? \nRouge-queue noir (Phoenicurus ochruros). Crédit photo : El Golli Mohamed pour Wikipedia.
URL:https://terra-preta.fr/evenement/atelier-fabrication-de-nichoirs/
LOCATION:Atelier Bois Coopératif\, 4\, avenue Marx Dormoy\, Clermont-Ferrand\, 63000\, France
CATEGORIES:Animation,Atelier
ATTACH;FMTTYPE=image/jpeg:https://terra-preta.fr/wp-content/uploads/2020/01/IMG_20191211_180302.jpg
ORGANIZER;CN="Association Terra Preta":MAILTO:contact@terra-preta.fr
END:VEVENT
BEGIN:VEVENT
DTSTART;TZID=Europe/Paris:20240325T180000
DTEND;TZID=Europe/Paris:20240325T210000
DTSTAMP:20260422T142158
CREATED:20240313T150036Z
LAST-MODIFIED:20240313T171647Z
UID:5397-1711389600-1711400400@terra-preta.fr
SUMMARY:Formation sécurité des machines à bois : scie sous-table
DESCRIPTION:Participer à notre formation sur la sécurité des machines le lundi 25 mars de 18h à 21h ! \nAu menu\, la scie circulaire sous-table !! Cet atelier est complet !\n \nAprès la première formation sécurité sur la scie circulaire à onglet qui tronçonne\, nous entamons un autre champ\, cet autre appareil permet de déligner le bois !  \nPensez à vous inscrire à la prochaine formation à notre atelier au 69 rue de l’Oradou !
URL:https://terra-preta.fr/evenement/formation-securite-des-machines-a-bois-scie-sous-table/
LOCATION:Atelier Bois Coopératif\, 4\, avenue Marx Dormoy\, Clermont-Ferrand\, 63000\, France
CATEGORIES:Animation,Formation
ATTACH;FMTTYPE=image/jpeg:https://terra-preta.fr/wp-content/uploads/2024/03/Scie-sous-table.jpg
ORGANIZER;CN="Association Terra Preta":MAILTO:contact@terra-preta.fr
END:VEVENT
END:VCALENDAR