BEGIN:VCALENDAR
VERSION:2.0
PRODID:-//Terra Preta - ECPv6.15.17.1//NONSGML v1.0//EN
CALSCALE:GREGORIAN
METHOD:PUBLISH
X-ORIGINAL-URL:https://terra-preta.fr
X-WR-CALDESC:Évènements pour Terra Preta
REFRESH-INTERVAL;VALUE=DURATION:PT1H
X-Robots-Tag:noindex
X-PUBLISHED-TTL:PT1H
BEGIN:VTIMEZONE
TZID:Europe/Paris
BEGIN:DAYLIGHT
TZOFFSETFROM:+0100
TZOFFSETTO:+0200
TZNAME:CEST
DTSTART:20230326T010000
END:DAYLIGHT
BEGIN:STANDARD
TZOFFSETFROM:+0200
TZOFFSETTO:+0100
TZNAME:CET
DTSTART:20231029T010000
END:STANDARD
BEGIN:DAYLIGHT
TZOFFSETFROM:+0100
TZOFFSETTO:+0200
TZNAME:CEST
DTSTART:20240331T010000
END:DAYLIGHT
BEGIN:STANDARD
TZOFFSETFROM:+0200
TZOFFSETTO:+0100
TZNAME:CET
DTSTART:20241027T010000
END:STANDARD
BEGIN:DAYLIGHT
TZOFFSETFROM:+0100
TZOFFSETTO:+0200
TZNAME:CEST
DTSTART:20250330T010000
END:DAYLIGHT
BEGIN:STANDARD
TZOFFSETFROM:+0200
TZOFFSETTO:+0100
TZNAME:CET
DTSTART:20251026T010000
END:STANDARD
END:VTIMEZONE
BEGIN:VEVENT
DTSTART;TZID=Europe/Paris:20240320T140000
DTEND;TZID=Europe/Paris:20240320T180000
DTSTAMP:20260420T133717
CREATED:20240221T113619Z
LAST-MODIFIED:20240221T113931Z
UID:5303-1710943200-1710957600@terra-preta.fr
SUMMARY:Atelier seed-bombs : ballade en ville
DESCRIPTION:Pour faire suite à l’atelier de fabrication de seed-bombs (bombes de graines)\, nous partons en ville pour une ballade à la recherche de délaissés\, de fissures\, d’espace pour accueillir nos petites boulettes surprises. \nArmés de nos seed-bombs\, nous allons déposer nos pochettes cadeaux pour ajouter des végétaux en ville\, fleurs ou plantes potagères qui viendront briser les continuités bétonnées\, goudronnées\, cimentées… \nCe sera l’occasion de parler d’espace public\, de sa réappropriation\, de politique\, d’écologie\, de biologie\, de jardinage\, d’alimentation… et aussi de se dégourdir les jambes ! \nDépart à 14h30 de l’Archipel des Salins\, à pieds. Atelier gratuit\, sans inscription et pour tout age.
URL:https://terra-preta.fr/evenement/atelier-seed-bombs-ballade-en-ville/
LOCATION:Archipel des Salins\, 1 place Gambetta\, Clermont-Ferrand\, 63000\, France
CATEGORIES:Animation,Atelier,Les mercredis aux Salins
ATTACH;FMTTYPE=image/jpeg:https://terra-preta.fr/wp-content/uploads/2018/12/7806428998_199956cb0b_c.jpg
ORGANIZER;CN="Association Terra Preta":MAILTO:contact@terra-preta.fr
END:VEVENT
END:VCALENDAR