BEGIN:VCALENDAR
VERSION:2.0
PRODID:-//Terra Preta - ECPv6.15.17.1//NONSGML v1.0//EN
CALSCALE:GREGORIAN
METHOD:PUBLISH
X-ORIGINAL-URL:https://terra-preta.fr
X-WR-CALDESC:Évènements pour Terra Preta
REFRESH-INTERVAL;VALUE=DURATION:PT1H
X-Robots-Tag:noindex
X-PUBLISHED-TTL:PT1H
BEGIN:VTIMEZONE
TZID:Europe/Paris
BEGIN:DAYLIGHT
TZOFFSETFROM:+0100
TZOFFSETTO:+0200
TZNAME:CEST
DTSTART:20230326T010000
END:DAYLIGHT
BEGIN:STANDARD
TZOFFSETFROM:+0200
TZOFFSETTO:+0100
TZNAME:CET
DTSTART:20231029T010000
END:STANDARD
BEGIN:DAYLIGHT
TZOFFSETFROM:+0100
TZOFFSETTO:+0200
TZNAME:CEST
DTSTART:20240331T010000
END:DAYLIGHT
BEGIN:STANDARD
TZOFFSETFROM:+0200
TZOFFSETTO:+0100
TZNAME:CET
DTSTART:20241027T010000
END:STANDARD
BEGIN:DAYLIGHT
TZOFFSETFROM:+0100
TZOFFSETTO:+0200
TZNAME:CEST
DTSTART:20250330T010000
END:DAYLIGHT
BEGIN:STANDARD
TZOFFSETFROM:+0200
TZOFFSETTO:+0100
TZNAME:CET
DTSTART:20251026T010000
END:STANDARD
END:VTIMEZONE
BEGIN:VEVENT
DTSTART;TZID=Europe/Paris:20240312T140000
DTEND;TZID=Europe/Paris:20240312T180000
DTSTAMP:20260420T133723
CREATED:20240221T120217Z
LAST-MODIFIED:20240221T120217Z
UID:5312-1710252000-1710266400@terra-preta.fr
SUMMARY:Atelier assemblage d'un bac à compost\, deuxième partie !
DESCRIPTION:Bricoleuses et bricoleurs\, \nvenez achever l’assemblage du futur bac à compost/culture pour l’Archipel des Salins le mardi 12 mars de 14h à 18h à l’Atelier Bois Coopératif. Cet atelier\, gratuit\, est ouvert à tous publics et ne nécessite aucune inscription. \nA vos visseuses… prêt ? \nDons de compost à l’Archipel des Salins
URL:https://terra-preta.fr/evenement/atelier-assemblage-dun-bac-a-compost-deuxieme-partie/
LOCATION:Atelier Bois Coopératif\, 4\, avenue Marx Dormoy\, Clermont-Ferrand\, 63000\, France
CATEGORIES:Animation,Atelier
ATTACH;FMTTYPE=image/jpeg:https://terra-preta.fr/wp-content/uploads/2020/09/formationReferentCompost2-scaled-e1599470808593.jpg
ORGANIZER;CN="Association Terra Preta":MAILTO:contact@terra-preta.fr
END:VEVENT
END:VCALENDAR