BEGIN:VCALENDAR
VERSION:2.0
PRODID:-//Terra Preta - ECPv6.15.17.1//NONSGML v1.0//EN
CALSCALE:GREGORIAN
METHOD:PUBLISH
X-ORIGINAL-URL:https://terra-preta.fr
X-WR-CALDESC:Évènements pour Terra Preta
REFRESH-INTERVAL;VALUE=DURATION:PT1H
X-Robots-Tag:noindex
X-PUBLISHED-TTL:PT1H
BEGIN:VTIMEZONE
TZID:Europe/Paris
BEGIN:DAYLIGHT
TZOFFSETFROM:+0100
TZOFFSETTO:+0200
TZNAME:CEST
DTSTART:20230326T010000
END:DAYLIGHT
BEGIN:STANDARD
TZOFFSETFROM:+0200
TZOFFSETTO:+0100
TZNAME:CET
DTSTART:20231029T010000
END:STANDARD
BEGIN:DAYLIGHT
TZOFFSETFROM:+0100
TZOFFSETTO:+0200
TZNAME:CEST
DTSTART:20240331T010000
END:DAYLIGHT
BEGIN:STANDARD
TZOFFSETFROM:+0200
TZOFFSETTO:+0100
TZNAME:CET
DTSTART:20241027T010000
END:STANDARD
BEGIN:DAYLIGHT
TZOFFSETFROM:+0100
TZOFFSETTO:+0200
TZNAME:CEST
DTSTART:20250330T010000
END:DAYLIGHT
BEGIN:STANDARD
TZOFFSETFROM:+0200
TZOFFSETTO:+0100
TZNAME:CET
DTSTART:20251026T010000
END:STANDARD
END:VTIMEZONE
BEGIN:VEVENT
DTSTART;TZID=Europe/Paris:20240111T140000
DTEND;TZID=Europe/Paris:20240111T160000
DTSTAMP:20260420T182906
CREATED:20231219T101759Z
LAST-MODIFIED:20231219T101759Z
UID:5188-1704981600-1704988800@terra-preta.fr
SUMMARY:Apéro démontage de palettes
DESCRIPTION:Pour la nouvelle année 2024\, l’association Terra Preta relance son premier atelier le jeudi 11 janvier 2024 de 14h à 16h à l’Atelier Bois Coopératif (ABC) au 69 rue de l’Oradou à Clemont-Ferrand avec un nouvel arrivage de fraîches palettes grâce à notre nouveau véhicule utilitaire du Budget Écologique Citoyen (BEC). \nViens te réchauffer autour d’un pied de biche et d’un verre de vin de pomme chaud ! Pas besoin de s’inscrire\, il te faut juste venir avec ta curiosité et ton stress pour venir te défouler on se charge de distribuer notre bonne ambiance avec de la bonne musique !
URL:https://terra-preta.fr/evenement/apero-demontage-de-palettes/
LOCATION:Atelier Bois Coopératif\, 4\, avenue Marx Dormoy\, Clermont-Ferrand\, 63000\, France
CATEGORIES:Animation,Atelier
ATTACH;FMTTYPE=image/jpeg:https://terra-preta.fr/wp-content/uploads/2019/12/IMG_20191122_135217-scaled.jpg
ORGANIZER;CN="Association Terra Preta":MAILTO:contact@terra-preta.fr
END:VEVENT
END:VCALENDAR