BEGIN:VCALENDAR
VERSION:2.0
PRODID:-//Terra Preta - ECPv6.15.17.1//NONSGML v1.0//EN
CALSCALE:GREGORIAN
METHOD:PUBLISH
X-WR-CALNAME:Terra Preta
X-ORIGINAL-URL:https://terra-preta.fr
X-WR-CALDESC:Évènements pour Terra Preta
REFRESH-INTERVAL;VALUE=DURATION:PT1H
X-Robots-Tag:noindex
X-PUBLISHED-TTL:PT1H
BEGIN:VTIMEZONE
TZID:Europe/Paris
BEGIN:DAYLIGHT
TZOFFSETFROM:+0100
TZOFFSETTO:+0200
TZNAME:CEST
DTSTART:20220327T010000
END:DAYLIGHT
BEGIN:STANDARD
TZOFFSETFROM:+0200
TZOFFSETTO:+0100
TZNAME:CET
DTSTART:20221030T010000
END:STANDARD
BEGIN:DAYLIGHT
TZOFFSETFROM:+0100
TZOFFSETTO:+0200
TZNAME:CEST
DTSTART:20230326T010000
END:DAYLIGHT
BEGIN:STANDARD
TZOFFSETFROM:+0200
TZOFFSETTO:+0100
TZNAME:CET
DTSTART:20231029T010000
END:STANDARD
BEGIN:DAYLIGHT
TZOFFSETFROM:+0100
TZOFFSETTO:+0200
TZNAME:CEST
DTSTART:20240331T010000
END:DAYLIGHT
BEGIN:STANDARD
TZOFFSETFROM:+0200
TZOFFSETTO:+0100
TZNAME:CET
DTSTART:20241027T010000
END:STANDARD
END:VTIMEZONE
BEGIN:VEVENT
DTSTART;TZID=Europe/Paris:20231101T140000
DTEND;TZID=Europe/Paris:20231101T180000
DTSTAMP:20260420T214518
CREATED:20231004T103939Z
LAST-MODIFIED:20231030T163156Z
UID:5035-1698847200-1698861600@terra-preta.fr
SUMMARY:(Annulé - férié) Identification faune et flore
DESCRIPTION:Annulation de l’atelier et de la permanence (jour férié !!!) \nJouons aux naturalistes en herbe à l’Archipel. Avec nos appareils photos (téléphone c’est suffisant\, après si vous avez du téléobjectif\, c’est autorisé aussi !) on part à la recherche de la petite bête\, ou de la plante que l’on ne connaît pas encore. Une photo originale\, une situation insolite\, un animal inconnu ? Hop ! C’est enregistré.\nEnsuite on cherche ce qu’on a trouvé dans des clés d’identification et dans toutes les connaissances qui sont à notre disposition. \nNos découvertes seront ensuite partagées dans la newsletter qui parait chaque mois. \nPour défendre il faut connaître. Et pour connaître\, l’observation est un premier pas.
URL:https://terra-preta.fr/evenement/identification-faune-et-flore/
LOCATION:Archipel des Salins\, 1 place Gambetta\, Clermont-Ferrand\, 63000\, France
CATEGORIES:Animation,Les mercredis aux Salins
ATTACH;FMTTYPE=image/jpeg:https://terra-preta.fr/wp-content/uploads/2023/06/AdS-xylocope-servant-de-transporteur-a-pollen.jpg
ORGANIZER;CN="Association Terra Preta":MAILTO:contact@terra-preta.fr
END:VEVENT
END:VCALENDAR