BEGIN:VCALENDAR
VERSION:2.0
PRODID:-//Terra Preta - ECPv6.15.17.1//NONSGML v1.0//EN
CALSCALE:GREGORIAN
METHOD:PUBLISH
X-WR-CALNAME:Terra Preta
X-ORIGINAL-URL:https://terra-preta.fr
X-WR-CALDESC:Évènements pour Terra Preta
REFRESH-INTERVAL;VALUE=DURATION:PT1H
X-Robots-Tag:noindex
X-PUBLISHED-TTL:PT1H
BEGIN:VTIMEZONE
TZID:Europe/Paris
BEGIN:DAYLIGHT
TZOFFSETFROM:+0100
TZOFFSETTO:+0200
TZNAME:CEST
DTSTART:20220327T010000
END:DAYLIGHT
BEGIN:STANDARD
TZOFFSETFROM:+0200
TZOFFSETTO:+0100
TZNAME:CET
DTSTART:20221030T010000
END:STANDARD
BEGIN:DAYLIGHT
TZOFFSETFROM:+0100
TZOFFSETTO:+0200
TZNAME:CEST
DTSTART:20230326T010000
END:DAYLIGHT
BEGIN:STANDARD
TZOFFSETFROM:+0200
TZOFFSETTO:+0100
TZNAME:CET
DTSTART:20231029T010000
END:STANDARD
BEGIN:DAYLIGHT
TZOFFSETFROM:+0100
TZOFFSETTO:+0200
TZNAME:CEST
DTSTART:20240331T010000
END:DAYLIGHT
BEGIN:STANDARD
TZOFFSETFROM:+0200
TZOFFSETTO:+0100
TZNAME:CET
DTSTART:20241027T010000
END:STANDARD
END:VTIMEZONE
BEGIN:VEVENT
DTSTART;TZID=Europe/Paris:20231025T100000
DTEND;TZID=Europe/Paris:20231025T120000
DTSTAMP:20260420T214513
CREATED:20230921T104811Z
LAST-MODIFIED:20230921T104811Z
UID:5005-1698228000-1698235200@terra-preta.fr
SUMMARY:Atelier construction de nichoirs
DESCRIPTION:Avec l’incontournable Ligue de Protection des Oiseaux (LPO) nous vous proposons un atelier de fabrication de nichoirs à l’Archipel des Salins le mercredi 25 octobre 2023 de 10h à 12h. \nDécouvrez comment aider les oiseaux des jardins et repartez avec votre propre nichoir une fois construit. \nLes nichoirs sont fabriqués par nos soins dans notre Atelier Bois Coopératif. Il ne reste plus qu’à l’assembler (dans la limite d’un par famille). \nSi vous disposez de matériel de construction n’hésitez pas à l’apporter (marteau et tournevis). \n\n\n\n\nNombre de places disponibles : 15\nEnfants à partir de 5 ans\, accompagnés d’un adulte.\nRéservation obligatoire : formulaire d’inscription\n\n\n\n\n\n\n\n\nDate limite d’inscription : 24 octobre 2023\n\n\n\n\nAnimateur(s)\, animatrice(s)\n\n\n\n\nMargot THARAN\n\n\n\n\n06 14 90 94 82\n\n\n\n\nmargot.tharan@lpo.fr
URL:https://terra-preta.fr/evenement/atelier-construction-de-nichoirs/
LOCATION:Archipel des Salins\, 1 place Gambetta\, Clermont-Ferrand\, 63000\, France
CATEGORIES:Animation,Atelier
ATTACH;FMTTYPE=image/jpeg:https://terra-preta.fr/wp-content/uploads/2019/11/mesange-bleue.jpg
ORGANIZER;CN="Association Terra Preta":MAILTO:contact@terra-preta.fr
END:VEVENT
BEGIN:VEVENT
DTSTART;TZID=Europe/Paris:20231025T140000
DTEND;TZID=Europe/Paris:20231025T180000
DTSTAMP:20260420T214513
CREATED:20231004T092957Z
LAST-MODIFIED:20231017T104406Z
UID:5020-1698242400-1698256800@terra-preta.fr
SUMMARY:Mare - réflexion sur l'installation
DESCRIPTION:Avec les contraintes connues\, les expériences\, les matériaux à notre disposition et les envies de chacun.e.s\, imaginons les plans pour l’implantation d’une mare à l’Archipel des Salins. \nPremière phase parmi les quatre qui s’enchaîneront permettant de faire naître la mare à l’Archipel. \nUn article de Reporterre pour apporter quelques pistes de réflexion : Créer une mare : un acte militant. \nEt aussi deux documents bien fait sur la création d’une mare : brochure créer une mare naturelle dans son jardin et Point d’eau\, point de vie !
URL:https://terra-preta.fr/evenement/mare-reflexion-sur-linstallation/
LOCATION:Archipel des Salins\, 1 place Gambetta\, Clermont-Ferrand\, 63000\, France
CATEGORIES:Animation,Les mercredis aux Salins
ATTACH;FMTTYPE=image/jpeg:https://terra-preta.fr/wp-content/uploads/2023/10/reflexion-mare.jpg
ORGANIZER;CN="Association Terra Preta":MAILTO:contact@terra-preta.fr
END:VEVENT
END:VCALENDAR