BEGIN:VCALENDAR
VERSION:2.0
PRODID:-//Terra Preta - ECPv6.15.17.1//NONSGML v1.0//EN
CALSCALE:GREGORIAN
METHOD:PUBLISH
X-ORIGINAL-URL:https://terra-preta.fr
X-WR-CALDESC:Évènements pour Terra Preta
REFRESH-INTERVAL;VALUE=DURATION:PT1H
X-Robots-Tag:noindex
X-PUBLISHED-TTL:PT1H
BEGIN:VTIMEZONE
TZID:Europe/Paris
BEGIN:DAYLIGHT
TZOFFSETFROM:+0100
TZOFFSETTO:+0200
TZNAME:CEST
DTSTART:20220327T010000
END:DAYLIGHT
BEGIN:STANDARD
TZOFFSETFROM:+0200
TZOFFSETTO:+0100
TZNAME:CET
DTSTART:20221030T010000
END:STANDARD
BEGIN:DAYLIGHT
TZOFFSETFROM:+0100
TZOFFSETTO:+0200
TZNAME:CEST
DTSTART:20230326T010000
END:DAYLIGHT
BEGIN:STANDARD
TZOFFSETFROM:+0200
TZOFFSETTO:+0100
TZNAME:CET
DTSTART:20231029T010000
END:STANDARD
BEGIN:DAYLIGHT
TZOFFSETFROM:+0100
TZOFFSETTO:+0200
TZNAME:CEST
DTSTART:20240331T010000
END:DAYLIGHT
BEGIN:STANDARD
TZOFFSETFROM:+0200
TZOFFSETTO:+0100
TZNAME:CET
DTSTART:20241027T010000
END:STANDARD
END:VTIMEZONE
BEGIN:VEVENT
DTSTART;TZID=Europe/Paris:20230927T140000
DTEND;TZID=Europe/Paris:20230927T180000
DTSTAMP:20260420T233232
CREATED:20230906T113241Z
LAST-MODIFIED:20230907T085659Z
UID:4977-1695823200-1695837600@terra-preta.fr
SUMMARY:Atelier mise en place d'un nouveau bac de culture
DESCRIPTION:Mercredi 27 Septembre\, pendant notre permanence de 14h à 18h venez nous aider à mettre en place un nouveau bac de culture à l’Archipel des Salins. \nCe sera l’occasion de réfléchir et d’agir pour pallier les contraintes des bacs (peu de terre\, assèchement l’été\, accessibilité…) en installant des dispositifs adaptés. Un bon moyen pour expérimenter et observer l’efficacité de ces dispositifs. \nNous avons tout le matériel nécessaire\, il nous manque juste vos bras/mains et votre matière grise 😉
URL:https://terra-preta.fr/evenement/atelier-mise-en-place-dun-nouveau-bac-de-culture/
LOCATION:Archipel des Salins\, 1 place Gambetta\, Clermont-Ferrand\, 63000\, France
CATEGORIES:Animation,Atelier,Les mercredis aux Salins
ATTACH;FMTTYPE=image/jpeg:https://terra-preta.fr/wp-content/uploads/2023/09/Atelier-mercredi-archipel-bac-culture.jpg
END:VEVENT
END:VCALENDAR