BEGIN:VCALENDAR
VERSION:2.0
PRODID:-//Terra Preta - ECPv6.15.17.1//NONSGML v1.0//EN
CALSCALE:GREGORIAN
METHOD:PUBLISH
X-ORIGINAL-URL:https://terra-preta.fr
X-WR-CALDESC:Évènements pour Terra Preta
REFRESH-INTERVAL;VALUE=DURATION:PT1H
X-Robots-Tag:noindex
X-PUBLISHED-TTL:PT1H
BEGIN:VTIMEZONE
TZID:Europe/Paris
BEGIN:DAYLIGHT
TZOFFSETFROM:+0100
TZOFFSETTO:+0200
TZNAME:CEST
DTSTART:20240331T010000
END:DAYLIGHT
BEGIN:STANDARD
TZOFFSETFROM:+0200
TZOFFSETTO:+0100
TZNAME:CET
DTSTART:20241027T010000
END:STANDARD
BEGIN:DAYLIGHT
TZOFFSETFROM:+0100
TZOFFSETTO:+0200
TZNAME:CEST
DTSTART:20250330T010000
END:DAYLIGHT
BEGIN:STANDARD
TZOFFSETFROM:+0200
TZOFFSETTO:+0100
TZNAME:CET
DTSTART:20251026T010000
END:STANDARD
BEGIN:DAYLIGHT
TZOFFSETFROM:+0100
TZOFFSETTO:+0200
TZNAME:CEST
DTSTART:20260329T010000
END:DAYLIGHT
BEGIN:STANDARD
TZOFFSETFROM:+0200
TZOFFSETTO:+0100
TZNAME:CET
DTSTART:20261025T010000
END:STANDARD
END:VTIMEZONE
BEGIN:VEVENT
DTSTART;TZID=Europe/Paris:20250514T140000
DTEND;TZID=Europe/Paris:20250514T180000
DTSTAMP:20260421T160435
CREATED:20250424T144447Z
LAST-MODIFIED:20250424T144447Z
UID:6620-1747231200-1747245600@terra-preta.fr
SUMMARY:Identification de la faune
DESCRIPTION:Jouons aux naturalistes en herbe à l’Archipel. \nAvec nos appareils photos (téléphone c’est suffisant\, après si vous avez du téléobjectif\, c’est autorisé aussi !) on part à la recherche de la petite bête\,  que l’on ne connaît pas encore. Une photo originale\, une situation insolite\, un animal inconnu ? Hop ! C’est enregistré. \nEnsuite on cherche ce qu’on a trouvé dans des clés d’identification et dans toutes les connaissances qui sont à notre disposition. \nNos découvertes seront ensuite partagées dans la newsletter qui parait chaque mois (ou presque).
URL:https://terra-preta.fr/evenement/identification-de-la-faune/
LOCATION:Archipel des Salins\, 1 place Gambetta\, Clermont-Ferrand\, 63000\, France
CATEGORIES:Animation,Atelier
ATTACH;FMTTYPE=image/jpeg:https://terra-preta.fr/wp-content/uploads/2025/04/1744021114875-scaled-e1745505840448.jpg
END:VEVENT
BEGIN:VEVENT
DTSTART;TZID=Europe/Paris:20250521T140000
DTEND;TZID=Europe/Paris:20250521T180000
DTSTAMP:20260421T160435
CREATED:20250428T163019Z
LAST-MODIFIED:20250428T163019Z
UID:6640-1747836000-1747850400@terra-preta.fr
SUMMARY:Atelier décoration pour notre fête annuelle Terra Fiesta
DESCRIPTION:Tu dois être au courant\, le samedi 24 mai aura lieu notre fête annuelle Terra Fiesta. \nUne journée où l’Archipel des Salins ouvre grand ses portes. Tu pourras dès 10h le matin et jusqu’au soir venir découvrir le jardin\, le compost\, participer à divers ateliers et te restaurer. (Si tu souhaites en savoir plus\, rends-toi dans la rubrique blog on a écrit un article dessus) \nEt pour préparer cette fête\, on organise un atelier décoration. Pancartes\, guirlandes ou tout ce que tu as envie de faire ! \nUn atelier de 14h à 18h. Tu viens et tu repars quand tu veux. \n 
URL:https://terra-preta.fr/evenement/atelier-decoration-pour-notre-fete-annuelle-terra-fiesta/
LOCATION:Archipel des Salins\, 1 place Gambetta\, Clermont-Ferrand\, 63000\, France
CATEGORIES:Animation,Atelier,Les mercredis aux Salins
ATTACH;FMTTYPE=image/jpeg:https://terra-preta.fr/wp-content/uploads/2025/02/20230505_175150.jpg
END:VEVENT
BEGIN:VEVENT
DTSTART;TZID=Europe/Paris:20250524T100000
DTEND;TZID=Europe/Paris:20250524T210000
DTSTAMP:20260421T160435
CREATED:20250424T142559Z
LAST-MODIFIED:20250424T142717Z
UID:6615-1748080800-1748120400@terra-preta.fr
SUMMARY:Terra Fiesta
DESCRIPTION:Programme :\nMatinée \n10h00 Ouverture \nDanse « Quatre éléments » \n11h30 Concert « Tatu trio » \n  \nPossibilité de restauration \n  \nAprès-midi \n14h00-16h30 Ateliers en continu \n\nObjets en bois\nFeuilles martelées (impression végétale)\nObservation de la faune du compost\nŒuvre végétale sur bois\nDémonstration cuiseur solaire\n\n17h30 Concert et Bal avec «Tatu trio » \nToute la journée \n\nDécouverte du jardin pédagogique\nParcours du cycle du compost en autonomie dans l’Archipel\nVente de plants à prix libre\nExpo du dessinateur Noé VUILLERMET – ARTS EN BALADE (atelier 92)\nStand photo « à travers la fenêtre »\nExposition « L’Arbre et l’oiseau » de la LPO à l’Atelier Bois Coopératif\nJeux en bois\, visites guidées\n\nEntrée et ateliers gratuits !
URL:https://terra-preta.fr/evenement/terra-fiesta-2/
LOCATION:Archipel des Salins\, 1 place Gambetta\, Clermont-Ferrand\, 63000\, France
CATEGORIES:Animation,Équipage Terra Fiesta,Fête
ATTACH;FMTTYPE=image/png:https://terra-preta.fr/wp-content/uploads/2025/04/Affiche-Terra-Fiesta-e1745497773458.png
END:VEVENT
BEGIN:VEVENT
DTSTART;TZID=Europe/Paris:20250529T160000
DTEND;TZID=Europe/Paris:20250529T200000
DTSTAMP:20260421T160435
CREATED:20250527T134020Z
LAST-MODIFIED:20250527T134151Z
UID:6671-1748534400-1748548800@terra-preta.fr
SUMMARY:Fermeture de la permanence à l'Atelier Bois Coopératif
DESCRIPTION:Qui dit jour férié\, qui dit fermeture. \nLa permanence à l’Atelier Bois Coopératif sera fermé le jeudi 29 mai.
URL:https://terra-preta.fr/evenement/fermeture-de-la-permanence-a-latelier-bois-cooperatif/
LOCATION:Atelier Bois Coopératif\, 4\, avenue Marx Dormoy\, Clermont-Ferrand\, 63000\, France
CATEGORIES:Équipage Atelier Bois Coopératif,Permanence
END:VEVENT
BEGIN:VEVENT
DTSTART;TZID=Europe/Paris:20250530T180000
DTEND;TZID=Europe/Paris:20250530T200000
DTSTAMP:20260421T160435
CREATED:20250428T165649Z
LAST-MODIFIED:20250428T165649Z
UID:6648-1748628000-1748635200@terra-preta.fr
SUMMARY:Formation à la sécurité : raboteuse-dégauchisseuse
DESCRIPTION:Nouvelle session pour cette machine ! \nOn te propose de t’inscrire gratuitement et te donne rendez-vous au 4 avenue Marx Dormoy à notre Atelier Bois Coopératif pour une formation dense\, technique mais aussi avec des exercices pratiques ! \nC’est une formation totalement gratuite et accessible à tous.toutes. Suivre cette formation te permettra d’utiliser la machine en totale autonomie pendant les permanences à l’atelier. \nDonc inscris-toi par téléphone au 07.67.04.16.04 au par mail à contact@terra-preta.fr
URL:https://terra-preta.fr/evenement/formation-a-la-securite-raboteuse-degauchisseuse/
LOCATION:Atelier Bois Coopératif\, 4\, avenue Marx Dormoy\, Clermont-Ferrand\, 63000\, France
CATEGORIES:Animation,Formation
ATTACH;FMTTYPE=image/jpeg:https://terra-preta.fr/wp-content/uploads/2025/04/3-2.jpg
END:VEVENT
END:VCALENDAR