BEGIN:VCALENDAR
VERSION:2.0
PRODID:-//Terra Preta - ECPv6.15.17.1//NONSGML v1.0//EN
CALSCALE:GREGORIAN
METHOD:PUBLISH
X-ORIGINAL-URL:https://terra-preta.fr
X-WR-CALDESC:Évènements pour Terra Preta
REFRESH-INTERVAL;VALUE=DURATION:PT1H
X-Robots-Tag:noindex
X-PUBLISHED-TTL:PT1H
BEGIN:VTIMEZONE
TZID:Europe/Paris
BEGIN:DAYLIGHT
TZOFFSETFROM:+0100
TZOFFSETTO:+0200
TZNAME:CEST
DTSTART:20240331T010000
END:DAYLIGHT
BEGIN:STANDARD
TZOFFSETFROM:+0200
TZOFFSETTO:+0100
TZNAME:CET
DTSTART:20241027T010000
END:STANDARD
BEGIN:DAYLIGHT
TZOFFSETFROM:+0100
TZOFFSETTO:+0200
TZNAME:CEST
DTSTART:20250330T010000
END:DAYLIGHT
BEGIN:STANDARD
TZOFFSETFROM:+0200
TZOFFSETTO:+0100
TZNAME:CET
DTSTART:20251026T010000
END:STANDARD
BEGIN:DAYLIGHT
TZOFFSETFROM:+0100
TZOFFSETTO:+0200
TZNAME:CEST
DTSTART:20260329T010000
END:DAYLIGHT
BEGIN:STANDARD
TZOFFSETFROM:+0200
TZOFFSETTO:+0100
TZNAME:CET
DTSTART:20261025T010000
END:STANDARD
END:VTIMEZONE
BEGIN:VEVENT
DTSTART;TZID=Europe/Paris:20250110T180000
DTEND;TZID=Europe/Paris:20250110T200000
DTSTAMP:20260419T163925
CREATED:20241204T153120Z
LAST-MODIFIED:20241204T153120Z
UID:6169-1736532000-1736539200@terra-preta.fr
SUMMARY:Formation à la sécurité des machines : raboteuse\, dégauchisseuse
DESCRIPTION:C’est la troisième formation\, elle est enfin arrivée et la première de l’année 2025 ! Nous vous proposons de vous inscrire gratuitement et vous donnons rendez-vous au 4 avenue Marx Dormy pour une formation dense\, technique mais aussi avec des exercices pratiques ! \nD’autres formations sont à venir\, n’hésitez pas à vous inscrire dès maintenant sur nos autres formations  à la sécurité des machines à l’Atelier Bois Coopératif pendant nos permanences ou en nous contactant.
URL:https://terra-preta.fr/evenement/formation-a-la-securite-des-machines-raboteuse-degauchisseuse/
LOCATION:Atelier Bois Coopératif\, 4\, avenue Marx Dormoy\, Clermont-Ferrand\, 63000\, France
CATEGORIES:Formation
ATTACH;FMTTYPE=image/jpeg:https://terra-preta.fr/wp-content/uploads/2024/12/Degauchisseuse-1-scaled.jpg
ORGANIZER;CN="Association Terra Preta":MAILTO:contact@terra-preta.fr
END:VEVENT
END:VCALENDAR