BEGIN:VCALENDAR
VERSION:2.0
PRODID:-//Terra Preta - ECPv6.15.17.1//NONSGML v1.0//EN
CALSCALE:GREGORIAN
METHOD:PUBLISH
X-ORIGINAL-URL:https://terra-preta.fr
X-WR-CALDESC:Évènements pour Terra Preta
REFRESH-INTERVAL;VALUE=DURATION:PT1H
X-Robots-Tag:noindex
X-PUBLISHED-TTL:PT1H
BEGIN:VTIMEZONE
TZID:Europe/Paris
BEGIN:DAYLIGHT
TZOFFSETFROM:+0100
TZOFFSETTO:+0200
TZNAME:CEST
DTSTART:20230326T010000
END:DAYLIGHT
BEGIN:STANDARD
TZOFFSETFROM:+0200
TZOFFSETTO:+0100
TZNAME:CET
DTSTART:20231029T010000
END:STANDARD
BEGIN:DAYLIGHT
TZOFFSETFROM:+0100
TZOFFSETTO:+0200
TZNAME:CEST
DTSTART:20240331T010000
END:DAYLIGHT
BEGIN:STANDARD
TZOFFSETFROM:+0200
TZOFFSETTO:+0100
TZNAME:CET
DTSTART:20241027T010000
END:STANDARD
BEGIN:DAYLIGHT
TZOFFSETFROM:+0100
TZOFFSETTO:+0200
TZNAME:CEST
DTSTART:20250330T010000
END:DAYLIGHT
BEGIN:STANDARD
TZOFFSETFROM:+0200
TZOFFSETTO:+0100
TZNAME:CET
DTSTART:20251026T010000
END:STANDARD
END:VTIMEZONE
BEGIN:VEVENT
DTSTART;TZID=Europe/Paris:20241106T140000
DTEND;TZID=Europe/Paris:20241106T180000
DTSTAMP:20260419T183005
CREATED:20241022T104559Z
LAST-MODIFIED:20241022T104559Z
UID:6079-1730901600-1730916000@terra-preta.fr
SUMMARY:Identification faune et flore (Novembre 2024)
DESCRIPTION:Et c’est reparti pour un tour ! Jouons aux naturalistes en herbe à l’Archipel. Avec nos appareils photos (téléphone c’est suffisant\, après si vous avez du téléobjectif\, avec macro\, c’est autorisé aussi !) on part à la recherche de la petite bête\, ou de la plante que l’on ne connaît pas encore.\nUne photo originale\, une situation insolite\, un animal inconnu ? Hop ! C’est enregistré.\nEnsuite on cherche ce qu’on a trouvé dans des clés d’identification et dans toutes les ressources qui sont à notre disposition. \nNos découvertes seront ensuite partagées sur site\, dans notre newsletter ou autres… \nOn participe aussi à l’observatoire des oiseaux (sciences participatives) avec nos fiches et crayons.
URL:https://terra-preta.fr/evenement/identification-faune-et-flore-novembre-2024/
LOCATION:Archipel des Salins\, 1 place Gambetta\, Clermont-Ferrand\, 63000\, France
CATEGORIES:Animation,Les mercredis aux Salins
ATTACH;FMTTYPE=image/jpeg:https://terra-preta.fr/wp-content/uploads/2024/10/ScarabeeRhinoceros.jpg
ORGANIZER;CN="Association Terra Preta":MAILTO:contact@terra-preta.fr
END:VEVENT
BEGIN:VEVENT
DTSTART;TZID=Europe/Paris:20241124T163000
DTEND;TZID=Europe/Paris:20241124T190000
DTSTAMP:20260419T183005
CREATED:20241022T093155Z
LAST-MODIFIED:20241022T093155Z
UID:6076-1732465800-1732474800@terra-preta.fr
SUMMARY:Festival ALIMENTERRE
DESCRIPTION:Dans le cadre du festival national ALIMENTERRE coordonné par le Comité Français pour la Solidarité Internationale (CFSI) et porté localement par l’excellente association Anis Étoilé\, nous avons l’honneur de vous informer que nous allons projeter un film parmi la sélection du festival. \nC’est donc le très instructif « L’or bleu – l’or vert : les larmes d’une vallée » (dont voici la bande annonce) qui a été choisi car il résonne d’autant plus fort chez nous que les problématiques d’eau qu’ils et elles connaissent là bas sont aussi en cours chez nous (pour l’instant à moindre échelle\, mais pour combien de temps encore ?).\nLa projection du film sera suivi d’un débat avec apéro. \n(pré)inscriptions souhaitées :  evenement@terra-preta.fr
URL:https://terra-preta.fr/evenement/festival-alimenterre/
LOCATION:Archipel des Salins\, 1 place Gambetta\, Clermont-Ferrand\, 63000\, France
CATEGORIES:Animation
ATTACH;FMTTYPE=image/jpeg:https://terra-preta.fr/wp-content/uploads/2024/10/alimenterre.jpg
ORGANIZER;CN="Association Terra Preta":MAILTO:contact@terra-preta.fr
END:VEVENT
END:VCALENDAR