BEGIN:VCALENDAR
VERSION:2.0
PRODID:-//Terra Preta - ECPv6.15.17.1//NONSGML v1.0//EN
CALSCALE:GREGORIAN
METHOD:PUBLISH
X-ORIGINAL-URL:https://terra-preta.fr
X-WR-CALDESC:Évènements pour Terra Preta
REFRESH-INTERVAL;VALUE=DURATION:PT1H
X-Robots-Tag:noindex
X-PUBLISHED-TTL:PT1H
BEGIN:VTIMEZONE
TZID:Europe/Paris
BEGIN:DAYLIGHT
TZOFFSETFROM:+0100
TZOFFSETTO:+0200
TZNAME:CEST
DTSTART:20230326T010000
END:DAYLIGHT
BEGIN:STANDARD
TZOFFSETFROM:+0200
TZOFFSETTO:+0100
TZNAME:CET
DTSTART:20231029T010000
END:STANDARD
BEGIN:DAYLIGHT
TZOFFSETFROM:+0100
TZOFFSETTO:+0200
TZNAME:CEST
DTSTART:20240331T010000
END:DAYLIGHT
BEGIN:STANDARD
TZOFFSETFROM:+0200
TZOFFSETTO:+0100
TZNAME:CET
DTSTART:20241027T010000
END:STANDARD
BEGIN:DAYLIGHT
TZOFFSETFROM:+0100
TZOFFSETTO:+0200
TZNAME:CEST
DTSTART:20250330T010000
END:DAYLIGHT
BEGIN:STANDARD
TZOFFSETFROM:+0200
TZOFFSETTO:+0100
TZNAME:CET
DTSTART:20251026T010000
END:STANDARD
END:VTIMEZONE
BEGIN:VEVENT
DTSTART;TZID=Europe/Paris:20240701T110000
DTEND;TZID=Europe/Paris:20240701T150000
DTSTAMP:20260420T045352
CREATED:20240627T104422Z
LAST-MODIFIED:20240627T104512Z
UID:5694-1719831600-1719846000@terra-preta.fr
SUMMARY:Permanence du lundi
DESCRIPTION:Venez nous rencontrer lors de la permanence du lundi de 11h à 15h. \n\n \n11h00 récolte au jardin des plantes à consommer puis préparation du repas\n12h00 repas partagé\n14h00 jardinage\, discussions\n\n\nNous nous retrouvons avant midi pour cuisiner ensemble. Chacun.e. est invité.e. à apporter un/des légumes/fruits de son choix\, on met tout sur la table et on laisse aller la créativité. Il est possible de contribuer également avec une boisson\, une spécialité du choix\, une petite monnaie pour la caisse à prix libre ou tout simplement avec un sourire. \n\nLe repas est précédé et se poursuit avec des activités dans notre jardin pédagogique : visite\, compostage\, arrosage\, plantation\, petits bricolages\, entretien du site en fonction des besoins et des envies. \n\nParticipation possible à tout moment de la journée. \n\nLe site est ouvert également à toutes les personnes qui souhaitent seulement découvrir le jardin et le visiter. 
URL:https://terra-preta.fr/evenement/permanence-du-lundi-4/
LOCATION:Archipel des Salins\, 1 place Gambetta\, Clermont-Ferrand\, 63000\, France
CATEGORIES:Animation,Permanence
ORGANIZER;CN="Association Terra Preta":MAILTO:contact@terra-preta.fr
END:VEVENT
BEGIN:VEVENT
DTSTART;TZID=Europe/Paris:20240708T110000
DTEND;TZID=Europe/Paris:20240708T150000
DTSTAMP:20260420T045352
CREATED:20240627T104627Z
LAST-MODIFIED:20240627T104822Z
UID:5698-1720436400-1720450800@terra-preta.fr
SUMMARY:Permanence du lundi
DESCRIPTION:Venez nous rencontrer lors de la permanence du lundi de 11h à 15h. \n\n \n11h00 récolte au jardin des plantes à consommer puis préparation du repas\n12h00 repas partagé\n14h00 jardinage\, discussions\n\n\nNous nous retrouvons avant midi pour cuisiner ensemble. Chacun.e. est invité.e. à apporter un/des légumes/fruits de son choix\, on met tout sur la table et on laisse aller la créativité. Il est possible de contribuer également avec une boisson\, une spécialité du choix\, une petite monnaie pour la caisse à prix libre ou tout simplement avec un sourire. \n\nLe repas est précédé et se poursuit avec des activités dans notre jardin pédagogique : visite\, compostage\, arrosage\, plantation\, petits bricolages\, entretien du site en fonction des besoins et des envies. \n\nParticipation possible à tout moment de la journée. \n\nLe site est ouvert également à toutes les personnes qui souhaitent seulement découvrir le jardin et le visiter. 
URL:https://terra-preta.fr/evenement/venez-nous-rencontrer-lors-de-la-permanence-du-lundi-de-11h-a-15h-11h00-recolte-au-jardin-des-plantes-a-consommer-puis-preparation-du-repas-12h00-repas-partage-14h00-jardinage-discuss/
LOCATION:Archipel des Salins\, 1 place Gambetta\, Clermont-Ferrand\, 63000\, France
CATEGORIES:Animation,Permanence
ORGANIZER;CN="Association Terra Preta":MAILTO:contact@terra-preta.fr
END:VEVENT
BEGIN:VEVENT
DTSTART;TZID=Europe/Paris:20240715T110000
DTEND;TZID=Europe/Paris:20240715T150000
DTSTAMP:20260420T045352
CREATED:20240627T104658Z
LAST-MODIFIED:20240710T110029Z
UID:5697-1721041200-1721055600@terra-preta.fr
SUMMARY:Permanence du lundi particulière
DESCRIPTION:Venez nous rencontrer lors de la permanence du lundi de 11h à 15h. \nCette permanence du lundi sera particulière car le déménagement de l’ABC aura lieu en même temps.\n\nSi vous souhaitez aider en cuisine pour permettre aux personnes qui aident au déménagement de les sustenter\, vous êtes les bienvenu.e.s. \nAussi\, vous pourrez aider à décharger les camions pleins de l’ancien ABC dans notre nouveau local puisque vous serez juste à côté 😉 \nÀ lundi !
URL:https://terra-preta.fr/evenement/permanence-du-lundi-5/
LOCATION:Archipel des Salins\, 1 place Gambetta\, Clermont-Ferrand\, 63000\, France
CATEGORIES:Animation,Permanence
ORGANIZER;CN="Association Terra Preta":MAILTO:contact@terra-preta.fr
END:VEVENT
END:VCALENDAR