BEGIN:VCALENDAR
VERSION:2.0
PRODID:-//Terra Preta - ECPv6.15.17.1//NONSGML v1.0//EN
CALSCALE:GREGORIAN
METHOD:PUBLISH
X-WR-CALNAME:Terra Preta
X-ORIGINAL-URL:https://terra-preta.fr
X-WR-CALDESC:Évènements pour Terra Preta
REFRESH-INTERVAL;VALUE=DURATION:PT1H
X-Robots-Tag:noindex
X-PUBLISHED-TTL:PT1H
BEGIN:VTIMEZONE
TZID:Europe/Paris
BEGIN:DAYLIGHT
TZOFFSETFROM:+0100
TZOFFSETTO:+0200
TZNAME:CEST
DTSTART:20230326T010000
END:DAYLIGHT
BEGIN:STANDARD
TZOFFSETFROM:+0200
TZOFFSETTO:+0100
TZNAME:CET
DTSTART:20231029T010000
END:STANDARD
BEGIN:DAYLIGHT
TZOFFSETFROM:+0100
TZOFFSETTO:+0200
TZNAME:CEST
DTSTART:20240331T010000
END:DAYLIGHT
BEGIN:STANDARD
TZOFFSETFROM:+0200
TZOFFSETTO:+0100
TZNAME:CET
DTSTART:20241027T010000
END:STANDARD
BEGIN:DAYLIGHT
TZOFFSETFROM:+0100
TZOFFSETTO:+0200
TZNAME:CEST
DTSTART:20250330T010000
END:DAYLIGHT
BEGIN:STANDARD
TZOFFSETFROM:+0200
TZOFFSETTO:+0100
TZNAME:CET
DTSTART:20251026T010000
END:STANDARD
END:VTIMEZONE
BEGIN:VEVENT
DTSTART;TZID=Europe/Paris:20240207T140000
DTEND;TZID=Europe/Paris:20240207T180000
DTSTAMP:20260420T133023
CREATED:20240117T112650Z
LAST-MODIFIED:20240117T113411Z
UID:5228-1707314400-1707328800@terra-preta.fr
SUMMARY:Identification faune et flore (fév. 2024)
DESCRIPTION:Lors de  cette session on s’inscrira à un dispositif  d’identification participatif relié à la Ligue de Protection des Oiseaux et au Muséum national d’Histoire naturelle. On observe\, on comptabilise et on leur transmet. On apprend à faire ensemble\, et si le cœur vous en dit vous pourrez reproduire cela chez vous ! \nJouons aux naturalistes en herbe à l’Archipel. Avec nos appareils photos (téléphone c’est suffisant\, après si vous avez du téléobjectif\, c’est autorisé aussi !) on part à la recherche de la petite bête\, ou de la plante que l’on ne connaît pas encore. Une photo originale\, une situation insolite\, un animal inconnu ? Hop ! C’est enregistré.\nEnsuite on cherche ce qu’on a trouvé dans des clés d’identification et dans toutes les connaissances qui sont à notre disposition. \nNos découvertes seront ensuite partagées dans la newsletter qui parait chaque mois (ou presque). \nPour défendre il faut connaître\, et pour connaître l’observation est le premier pas.
URL:https://terra-preta.fr/evenement/identification-faune-et-flore-fev-24/
LOCATION:Archipel des Salins\, 1 place Gambetta\, Clermont-Ferrand\, 63000\, France
CATEGORIES:Animation,Les mercredis aux Salins
ATTACH;FMTTYPE=image/jpeg:https://terra-preta.fr/wp-content/uploads/2023/07/punaise-du-chou.jpg
ORGANIZER;CN="Association Terra Preta":MAILTO:contact@terra-preta.fr
END:VEVENT
BEGIN:VEVENT
DTSTART;TZID=Europe/Paris:20240228T160000
DTEND;TZID=Europe/Paris:20240228T200000
DTSTAMP:20260420T133023
CREATED:20240117T111652Z
LAST-MODIFIED:20240205T142443Z
UID:5225-1709136000-1709150400@terra-preta.fr
SUMMARY:Atelier seed-bombs
DESCRIPTION:Exceptionnellement cet atelier débutera à 16h et finira à 20h. \nAprès avoir récolté au cours de l’année des graines issues du parc pédagogique partagé de l’Archipel des Salins et des plantes sauvages proches de Clermont-Ferrand et alentours\, nous nous attelons à la confection de seed-bombs pour répandre et soutenir la faune et la flore urbaine.\nEn choisissant des plantes adaptées et indigènes\, puis en créant des mélanges basés sur des guildes de plantes observées\, nous nous assurons de donner un maximum de chances à ses graines et plantes qui pourront s’appuyer sur un réserve de nutriments et de plantes amies pour pousser en ville. \nLa réalisation de ces petites boules fertiles se fera lors de cet atelier.\nAu programme : réalisation/sélection des mélange et ensuite on met les mains dans la terre. On roule\, on fait sécher et lors d’un autre atelier on part en ville pour disséminer la vie en ville =) \nVous pouvez venir sur tout ou partie de l’atelier\, on met à disposition des graines\, du compost et de l’argile. Si vous avez des graines (non hybride\, non ogm\, et si possible locales et indigènes) vous pouvez les amener et les partager.
URL:https://terra-preta.fr/evenement/atelier-seed-bombs/
LOCATION:Archipel des Salins\, 1 place Gambetta\, Clermont-Ferrand\, 63000\, France
CATEGORIES:Animation,Les mercredis aux Salins
ATTACH;FMTTYPE=image/jpeg:https://terra-preta.fr/wp-content/uploads/2024/01/seed-bombs-rouleau-cable-scaled-e1705490194147.jpg
ORGANIZER;CN="Association Terra Preta":MAILTO:contact@terra-preta.fr
END:VEVENT
END:VCALENDAR