BEGIN:VCALENDAR
VERSION:2.0
PRODID:-//Terra Preta - ECPv6.15.17.1//NONSGML v1.0//EN
CALSCALE:GREGORIAN
METHOD:PUBLISH
X-ORIGINAL-URL:https://terra-preta.fr
X-WR-CALDESC:Évènements pour Terra Preta
REFRESH-INTERVAL;VALUE=DURATION:PT1H
X-Robots-Tag:noindex
X-PUBLISHED-TTL:PT1H
BEGIN:VTIMEZONE
TZID:Europe/Paris
BEGIN:DAYLIGHT
TZOFFSETFROM:+0100
TZOFFSETTO:+0200
TZNAME:CEST
DTSTART:20230326T010000
END:DAYLIGHT
BEGIN:STANDARD
TZOFFSETFROM:+0200
TZOFFSETTO:+0100
TZNAME:CET
DTSTART:20231029T010000
END:STANDARD
BEGIN:DAYLIGHT
TZOFFSETFROM:+0100
TZOFFSETTO:+0200
TZNAME:CEST
DTSTART:20240331T010000
END:DAYLIGHT
BEGIN:STANDARD
TZOFFSETFROM:+0200
TZOFFSETTO:+0100
TZNAME:CET
DTSTART:20241027T010000
END:STANDARD
BEGIN:DAYLIGHT
TZOFFSETFROM:+0100
TZOFFSETTO:+0200
TZNAME:CEST
DTSTART:20250330T010000
END:DAYLIGHT
BEGIN:STANDARD
TZOFFSETFROM:+0200
TZOFFSETTO:+0100
TZNAME:CET
DTSTART:20251026T010000
END:STANDARD
END:VTIMEZONE
BEGIN:VEVENT
DTSTART;TZID=Europe/Paris:20240103T140000
DTEND;TZID=Europe/Paris:20240103T180000
DTSTAMP:20260420T150524
CREATED:20231222T120805Z
LAST-MODIFIED:20231222T120805Z
UID:5203-1704290400-1704304800@terra-preta.fr
SUMMARY:Identification faune et flore (jan. 24)
DESCRIPTION:Lors de  cette session on s’inscrira à un dispositif  d’identification participatif relié à la Ligue de Protection des Oiseaux et au Muséum national d’Histoire naturelle. On observe\, on comptabilise et on leur transmet. On apprend à faire ensemble\, et si le cœur vous en dit vous pourrez reproduire cela chez vous ! \nJouons aux naturalistes en herbe à l’Archipel. Avec nos appareils photos (téléphone c’est suffisant\, après si vous avez du téléobjectif\, c’est autorisé aussi !) on part à la recherche de la petite bête\, ou de la plante que l’on ne connaît pas encore. Une photo originale\, une situation insolite\, un animal inconnu ? Hop ! C’est enregistré.\nEnsuite on cherche ce qu’on a trouvé dans des clés d’identification et dans toutes les connaissances qui sont à notre disposition. \nNos découvertes seront ensuite partagées dans la newsletter qui parait chaque mois. \nPour défendre il faut connaître\, et pour connaître l’observation est le premier pas.
URL:https://terra-preta.fr/evenement/identification-faune-et-flore-jan-24/
LOCATION:Archipel des Salins\, 1 place Gambetta\, Clermont-Ferrand\, 63000\, France
CATEGORIES:Animation,Les mercredis aux Salins
ATTACH;FMTTYPE=image/jpeg:https://terra-preta.fr/wp-content/uploads/2023/07/bourdon-sur-chardon-les-deux-a-identifier.jpg
ORGANIZER;CN="Association Terra Preta":MAILTO:contact@terra-preta.fr
END:VEVENT
BEGIN:VEVENT
DTSTART;TZID=Europe/Paris:20240111T140000
DTEND;TZID=Europe/Paris:20240111T160000
DTSTAMP:20260420T150524
CREATED:20231219T101759Z
LAST-MODIFIED:20231219T101759Z
UID:5188-1704981600-1704988800@terra-preta.fr
SUMMARY:Apéro démontage de palettes
DESCRIPTION:Pour la nouvelle année 2024\, l’association Terra Preta relance son premier atelier le jeudi 11 janvier 2024 de 14h à 16h à l’Atelier Bois Coopératif (ABC) au 69 rue de l’Oradou à Clemont-Ferrand avec un nouvel arrivage de fraîches palettes grâce à notre nouveau véhicule utilitaire du Budget Écologique Citoyen (BEC). \nViens te réchauffer autour d’un pied de biche et d’un verre de vin de pomme chaud ! Pas besoin de s’inscrire\, il te faut juste venir avec ta curiosité et ton stress pour venir te défouler on se charge de distribuer notre bonne ambiance avec de la bonne musique !
URL:https://terra-preta.fr/evenement/apero-demontage-de-palettes/
LOCATION:Atelier Bois Coopératif\, 4\, avenue Marx Dormoy\, Clermont-Ferrand\, 63000\, France
CATEGORIES:Animation,Atelier
ATTACH;FMTTYPE=image/jpeg:https://terra-preta.fr/wp-content/uploads/2019/12/IMG_20191122_135217-scaled.jpg
ORGANIZER;CN="Association Terra Preta":MAILTO:contact@terra-preta.fr
END:VEVENT
BEGIN:VEVENT
DTSTART;TZID=Europe/Paris:20240117T140000
DTEND;TZID=Europe/Paris:20240117T180000
DTSTAMP:20260420T150524
CREATED:20231004T101218Z
LAST-MODIFIED:20231012T082323Z
UID:5029-1705500000-1705514400@terra-preta.fr
SUMMARY:Mare - végétalisation
DESCRIPTION:On remplit la mare\, on ensemence avec un peu d’eau d’une autre mare et on plante ! \nInstallation de végétaux\, dans\, sur\, sous et autour de l’eau ! \nPhase finale\, après ça il ne restera plus qu’à laisser faire la nature !
URL:https://terra-preta.fr/evenement/mare-vegetalisation/
LOCATION:Archipel des Salins\, 1 place Gambetta\, Clermont-Ferrand\, 63000\, France
CATEGORIES:Animation,Les mercredis aux Salins
ATTACH;FMTTYPE=image/jpeg:https://terra-preta.fr/wp-content/uploads/2023/10/vegetalisation-mare.jpg
END:VEVENT
BEGIN:VEVENT
DTSTART;TZID=Europe/Paris:20240124T140000
DTEND;TZID=Europe/Paris:20240124T180000
DTSTAMP:20260420T150524
CREATED:20240118T112029Z
LAST-MODIFIED:20240118T112029Z
UID:5234-1706104800-1706119200@terra-preta.fr
SUMMARY:Cité apprenante UNESCO - Learning Festival
DESCRIPTION:À l’occasion de la Journée mondiale de l’Éducation fixée par les Nations-Unies au 24 janvier de chaque année\, la Mission Ville apprenante-UNESCO de la Ville de Clermont-Ferrand co-organise chaque année\, avec l’IADT (Institut Auvergne-Rhône-Alpes de Développement des Territoires- Université Clermont-Auvergne) des « Rencontres apprenantes ». \n\n\n\n\n\n\n\n\n\n\n\n\n\n\n\n\n\nNous proposons donc pour cette occasion de vous faire visiter le site de l’Archipel des Salins\, de voir les coulisses et de répondre à toutes vos questions qui concernent nos activités. \nN’hésitez pas à venir nombreux\, divers publics seront présents pour partager eux aussi leurs actions et imaginer ensemble les diverses synergies qui pourraient exister dans le futur proche.
URL:https://terra-preta.fr/evenement/cite-apprenante-unesco-learning-festival/
LOCATION:Archipel des Salins\, 1 place Gambetta\, Clermont-Ferrand\, 63000\, France
CATEGORIES:Les mercredis aux Salins
ATTACH;FMTTYPE=image/png:https://terra-preta.fr/wp-content/uploads/2024/01/ODD-unesco.png
ORGANIZER;CN="Association Terra Preta":MAILTO:contact@terra-preta.fr
END:VEVENT
END:VCALENDAR