BEGIN:VCALENDAR
VERSION:2.0
PRODID:-//Terra Preta - ECPv6.15.17.1//NONSGML v1.0//EN
CALSCALE:GREGORIAN
METHOD:PUBLISH
X-ORIGINAL-URL:https://terra-preta.fr
X-WR-CALDESC:Évènements pour Terra Preta
REFRESH-INTERVAL;VALUE=DURATION:PT1H
X-Robots-Tag:noindex
X-PUBLISHED-TTL:PT1H
BEGIN:VTIMEZONE
TZID:Europe/Paris
BEGIN:DAYLIGHT
TZOFFSETFROM:+0100
TZOFFSETTO:+0200
TZNAME:CEST
DTSTART:20220327T010000
END:DAYLIGHT
BEGIN:STANDARD
TZOFFSETFROM:+0200
TZOFFSETTO:+0100
TZNAME:CET
DTSTART:20221030T010000
END:STANDARD
BEGIN:DAYLIGHT
TZOFFSETFROM:+0100
TZOFFSETTO:+0200
TZNAME:CEST
DTSTART:20230326T010000
END:DAYLIGHT
BEGIN:STANDARD
TZOFFSETFROM:+0200
TZOFFSETTO:+0100
TZNAME:CET
DTSTART:20231029T010000
END:STANDARD
BEGIN:DAYLIGHT
TZOFFSETFROM:+0100
TZOFFSETTO:+0200
TZNAME:CEST
DTSTART:20240331T010000
END:DAYLIGHT
BEGIN:STANDARD
TZOFFSETFROM:+0200
TZOFFSETTO:+0100
TZNAME:CET
DTSTART:20241027T010000
END:STANDARD
END:VTIMEZONE
BEGIN:VEVENT
DTSTART;TZID=Europe/Paris:20231206T140000
DTEND;TZID=Europe/Paris:20231206T180000
DTSTAMP:20260420T163523
CREATED:20231004T104326Z
LAST-MODIFIED:20231122T095522Z
UID:5037-1701871200-1701885600@terra-preta.fr
SUMMARY:Identification faune et flore (déc. 23)
DESCRIPTION:Jouons aux naturalistes en herbe à l’Archipel. Avec nos appareils photos (téléphone c’est suffisant\, après si vous avez du téléobjectif\, c’est autorisé aussi !) on part à la recherche de la petite bête\, ou de la plante que l’on ne connaît pas encore. Une photo originale\, une situation insolite\, un animal inconnu ? Hop ! C’est enregistré.\nEnsuite on cherche ce qu’on a trouvé dans des clés d’identification et dans toutes les connaissances qui sont à notre disposition. \nNos découvertes seront ensuite partagées dans la newsletter qui parait chaque mois. \nPour défendre il faut connaître\, et pour connaître l’observation est le premier pas.
URL:https://terra-preta.fr/evenement/identification-faune-et-flore-dec-23/
LOCATION:Archipel des Salins\, 1 place Gambetta\, Clermont-Ferrand\, 63000\, France
CATEGORIES:Animation,Les mercredis aux Salins
ATTACH;FMTTYPE=image/jpeg:https://terra-preta.fr/wp-content/uploads/2023/07/fleur-d-artichaut.jpg
ORGANIZER;CN="Association Terra Preta":MAILTO:contact@terra-preta.fr
END:VEVENT
BEGIN:VEVENT
DTSTART;TZID=Europe/Paris:20231210T100000
DTEND;TZID=Europe/Paris:20231210T180000
DTSTAMP:20260420T163523
CREATED:20231129T133735Z
LAST-MODIFIED:20231130T143149Z
UID:5125-1702202400-1702231200@terra-preta.fr
SUMMARY:Marché de Noël 2023 Doume
DESCRIPTION:Le marché de Noël de la Doume aura lieu le dimanche 10 décembre de 10h à 18h. \nComme chaque année désormais à la Maison du Peuple de Clermont-Ferrand place de la Liberté.\nVenez profiter de produits locaux tels que des nichoirs et hôtels à insectes et autres casse-tête en bois pour ravir votre entourage !
URL:https://terra-preta.fr/evenement/marche-de-noel-de-la-doume-le-10-decembre-de-10h-a-18h-a-la-maison-du-peuple/
LOCATION:Maison du peuple\, Place De La Liberté\, Clermont-Ferrand\, 63000\, France
CATEGORIES:Stand de présentation
ATTACH;FMTTYPE=image/png:https://terra-preta.fr/wp-content/uploads/2023/11/Marche-de-Noel-de-la-Doume-2023.png
END:VEVENT
BEGIN:VEVENT
DTSTART;TZID=Europe/Paris:20231213T140000
DTEND;TZID=Europe/Paris:20231213T180000
DTSTAMP:20260420T163523
CREATED:20231004T100336Z
LAST-MODIFIED:20231004T100336Z
UID:5026-1702476000-1702490400@terra-preta.fr
SUMMARY:Mare - aménagement des abords
DESCRIPTION:Après avoir creusé et positionné la mare et son trop plein\, on aménage les abords avec le « gros-œuvre » : déplacement de la terre et création de monticules pour futures plantations\, élévation d’un muret en pierres sèches ou maçonnées\, disposition de rochers et support pour accueillir la future végétation. \nMatériels nécessaires et recherchés : pierres\, mortier résistant à l’eau (mortier de chaux avec pouzzolane)\, grillages
URL:https://terra-preta.fr/evenement/mare-amenagement-des-abords/
LOCATION:Archipel des Salins\, 1 place Gambetta\, Clermont-Ferrand\, 63000\, France
CATEGORIES:Animation,Les mercredis aux Salins
ATTACH;FMTTYPE=image/jpeg:https://terra-preta.fr/wp-content/uploads/2023/10/mur-de-pierres-seches.jpg
ORGANIZER;CN="Association Terra Preta":MAILTO:contact@terra-preta.fr
END:VEVENT
END:VCALENDAR