BEGIN:VCALENDAR
VERSION:2.0
PRODID:-//Terra Preta - ECPv6.15.17.1//NONSGML v1.0//EN
CALSCALE:GREGORIAN
METHOD:PUBLISH
X-WR-CALNAME:Terra Preta
X-ORIGINAL-URL:https://terra-preta.fr
X-WR-CALDESC:Évènements pour Terra Preta
REFRESH-INTERVAL;VALUE=DURATION:PT1H
X-Robots-Tag:noindex
X-PUBLISHED-TTL:PT1H
BEGIN:VTIMEZONE
TZID:Europe/Paris
BEGIN:DAYLIGHT
TZOFFSETFROM:+0100
TZOFFSETTO:+0200
TZNAME:CEST
DTSTART:20220327T010000
END:DAYLIGHT
BEGIN:STANDARD
TZOFFSETFROM:+0200
TZOFFSETTO:+0100
TZNAME:CET
DTSTART:20221030T010000
END:STANDARD
BEGIN:DAYLIGHT
TZOFFSETFROM:+0100
TZOFFSETTO:+0200
TZNAME:CEST
DTSTART:20230326T010000
END:DAYLIGHT
BEGIN:STANDARD
TZOFFSETFROM:+0200
TZOFFSETTO:+0100
TZNAME:CET
DTSTART:20231029T010000
END:STANDARD
BEGIN:DAYLIGHT
TZOFFSETFROM:+0100
TZOFFSETTO:+0200
TZNAME:CEST
DTSTART:20240331T010000
END:DAYLIGHT
BEGIN:STANDARD
TZOFFSETFROM:+0200
TZOFFSETTO:+0100
TZNAME:CET
DTSTART:20241027T010000
END:STANDARD
END:VTIMEZONE
BEGIN:VEVENT
DTSTART;TZID=Europe/Paris:20231101T140000
DTEND;TZID=Europe/Paris:20231101T180000
DTSTAMP:20260420T212948
CREATED:20231004T103939Z
LAST-MODIFIED:20231030T163156Z
UID:5035-1698847200-1698861600@terra-preta.fr
SUMMARY:(Annulé - férié) Identification faune et flore
DESCRIPTION:Annulation de l’atelier et de la permanence (jour férié !!!) \nJouons aux naturalistes en herbe à l’Archipel. Avec nos appareils photos (téléphone c’est suffisant\, après si vous avez du téléobjectif\, c’est autorisé aussi !) on part à la recherche de la petite bête\, ou de la plante que l’on ne connaît pas encore. Une photo originale\, une situation insolite\, un animal inconnu ? Hop ! C’est enregistré.\nEnsuite on cherche ce qu’on a trouvé dans des clés d’identification et dans toutes les connaissances qui sont à notre disposition. \nNos découvertes seront ensuite partagées dans la newsletter qui parait chaque mois. \nPour défendre il faut connaître. Et pour connaître\, l’observation est un premier pas.
URL:https://terra-preta.fr/evenement/identification-faune-et-flore/
LOCATION:Archipel des Salins\, 1 place Gambetta\, Clermont-Ferrand\, 63000\, France
CATEGORIES:Animation,Les mercredis aux Salins
ATTACH;FMTTYPE=image/jpeg:https://terra-preta.fr/wp-content/uploads/2023/06/AdS-xylocope-servant-de-transporteur-a-pollen.jpg
ORGANIZER;CN="Association Terra Preta":MAILTO:contact@terra-preta.fr
END:VEVENT
BEGIN:VEVENT
DTSTART;TZID=Europe/Paris:20231102T100000
DTEND;TZID=Europe/Paris:20231102T180000
DTSTAMP:20260420T212948
CREATED:20231012T081752Z
LAST-MODIFIED:20231030T163323Z
UID:5048-1698919200-1698948000@terra-preta.fr
SUMMARY:(Annulé - à reprogrammer) Lieu-Dit : avancement dernier étage
DESCRIPTION:Annulation par manque d’inscriptions.\n\nL’aménagement du dernier étage se poursuit !\n \nPour ceux qui sont venus dernièrement au Lieu-dit\, vous avez pu constater que des chaises longues et un paravent ont été installés.\nLa partie terrasse a également reçu un coup de débroussaillage.\nCette fois le jeudi 2 novembre\, venez finir d’aménager le mobilier : vernis et confection de coussins et participez à la création et l’installation de mobiles\, nichoirs et hôtels à insectes.\n\nAtelier sur inscription matin/après-midi ou toute la journée à : mallette.urbaine@gmail.com\n\nAussi  le samedi 18 novembre  de 14h à 18h  venez réaliser l’arbre en carton qui viendra décorer la salle
URL:https://terra-preta.fr/evenement/lieu-dit-avancement-dernier-etage/
LOCATION:Lieu-Dit\, 10 Rue Fontgiève\, Clermont-Ferrand\, 63000\, France
CATEGORIES:Animation,Atelier
ATTACH;FMTTYPE=image/jpeg:https://terra-preta.fr/wp-content/uploads/2023/10/Lieu-Dit-atelier-2-nov.jpg
ORGANIZER;CN="Flax":MAILTO:flaxclermont@gmail.com
END:VEVENT
BEGIN:VEVENT
DTSTART;TZID=Europe/Paris:20231105T110000
DTEND;TZID=Europe/Paris:20231105T190000
DTSTAMP:20260420T212948
CREATED:20231016T084120Z
LAST-MODIFIED:20231016T125139Z
UID:5064-1699182000-1699210800@terra-preta.fr
SUMMARY:Fête de la Confédération Paysanne 63
DESCRIPTION:La Confédération Paysanne organise sa Fête Paysanne le Dimanche 5 novembre à Cournon. \nÀ ce titre Terra Preta tient un stand de présentation avec une animation sur l’observation de la faune du compost. Nous tenions à affirmer notre présence en soutient avec les luttes de la Confédération Paysanne qui nous semblent justes et nécessaires. \nAu programme\, des animations et des échanges autour de l’agriculture paysanne\, de la musique\, un marché des producteurs bio et une buvette paysanne \nLa Fête de la Confédération Paysanne sera l’occasion de valoriser l’agriculture paysanne du Puy de Dôme avec un marché de producteurs et d’artisans locaux organisé en partenariat avec Bio63 et une buvette où boire et manger local tout du long de l’événement. Nous nous ferons le plaisir de vous accueillir en famille avec des jeux et animations pour tous les âges. Une fanfare animera aussi plusieurs temps musicaux au long de la journée. \nCet événement festif et militant sera également l’occasion d’échanger autour des sujets qui mobilisent actuellement notre syndicat. Nous souhaitons ainsi sensibiliser et ouvrir le débat sur la gestion du foncier agricole. Alors qu’il faudrait que de nouveaux paysans s’installent massivement\, comment cela se fait-il que de nombreuses terres agricoles soient bétonnés ou contribuent à l’agrandissement de très grandes fermes ? De même\, nous espérons échanger avec les participants sur la gestion de l’eau en agriculture et les projets de méga-bassines qui font actuellement débat dans notre département. \nLa Fête de la Confédération Paysanne aura lieu de 11h à 19h à la Salle Polyvalente du Plan d’Eau\, rue des laveuses à Cournon. L’entrée sera libre et gratuite. \n– \nJoignez-vous à nous pour célébrer la Fête de la Confédération Paysanne le dimanche 5 novembre à Cournon d’Auvergne ! \nAu programme : \n\nÀ 11h\, projection du film documentaire “Du béton sur nos courgettes” au sujet de la protection du foncier agricole dans le cadre du festival Alimenterre.\nÀ 12h une table ronde “A qui vont nos terres” : discussion avec Terre de Liens des enjeux de la propriété foncière\, le premier frein à la transmission agricole.\nÀ 13h Interlude musical et restauration.\nÀ 14h Théâtre forum avec TCap et performance de BNM63 sur l’accaparement de l’eau en Auvergne.\nEt dès 15h échanges et table ronde sur l’irrigation et les mégabassines.\nPour finir en beauté à 18h avec un apéro concert en compagnie de la Fanfare de l’Extrême\n\nTout au long de la journée\, vous pourrez profiter de : \n\nUn marché de producteurs et artisans bio de 11h à 18h\, pour faire le plein de produits locaux et de qualité.\nUn espace de restauration paysanne pour bien manger et boire local\nDes animations pour les petits et les grands\nUn village associatif où vous pourrez découvrir les associations locales et rencontrer des acteurs engagés dans le monde agricole.\n\nLa Fête de la Confédération Paysanne aura lieu de 11h à 19h à la Salle Polyvalente du Plan d’Eau\, rue des laveuses à Cournon. L’entrée sera libre et gratuite.
URL:https://terra-preta.fr/evenement/fete-de-la-confederation-paysanne-63/
LOCATION:Salle polyvalente du lan d’eau\, Salle polyvalente du Plan d'Eau - rue des laveuses\, Cournon\, 63800\, France
CATEGORIES:Animation,Stand de présentation
ATTACH;FMTTYPE=image/jpeg:https://terra-preta.fr/wp-content/uploads/2023/10/fete-de-la-confederation-paysanne-63.jpg
ORGANIZER;CN="Conf%C3%A9d%C3%A9ration Paysanne 63":MAILTO:confederation63@gmail.com
END:VEVENT
BEGIN:VEVENT
DTSTART;TZID=Europe/Paris:20231108T140000
DTEND;TZID=Europe/Paris:20231108T180000
DTSTAMP:20260420T212948
CREATED:20231004T084655Z
LAST-MODIFIED:20231012T112631Z
UID:5013-1699452000-1699466400@terra-preta.fr
SUMMARY:Tailles d'automne au jardin
DESCRIPTION:Les plantes ont bien poussé à l’Archipel formant parfois de gros buissons. Les arbres aussi ont pris plusieurs  dizaines de centimètres. Afin de nous laisser un peu de place pour passer dans les allées ou pour préparer la fructification de l’année prochaine\, il va falloir les tailler un peu. Après avoir fait un peu de place et pour les plantes qui le permettront nous ferons des boutures. \nPour nous aider sur la taille\, qui n’est pas si évidente\, nous apporterons de la documentation\, et si des personnes ont des connaissances et souhaitent les partager avec nous tous.tes\, elles sont évidemment les bienvenues.
URL:https://terra-preta.fr/evenement/tailles-dautomne-au-jardin/
LOCATION:Archipel des Salins\, 1 place Gambetta\, Clermont-Ferrand\, 63000\, France
CATEGORIES:Animation,Les mercredis aux Salins
ATTACH;FMTTYPE=image/jpeg:https://terra-preta.fr/wp-content/uploads/2023/10/tailler.jpg
ORGANIZER;CN="Association Terra Preta":MAILTO:contact@terra-preta.fr
END:VEVENT
BEGIN:VEVENT
DTSTART;TZID=Europe/Paris:20231115T140000
DTEND;TZID=Europe/Paris:20231115T180000
DTSTAMP:20260420T212948
CREATED:20231004T102323Z
LAST-MODIFIED:20231004T102323Z
UID:5032-1700056800-1700071200@terra-preta.fr
SUMMARY:Ballade urbaine pour cueillette de plantes aquatiques
DESCRIPTION:Dans le cadre de l’installation de la mare à l’Archipel\, une petite ballade urbaine faisant un tour des points d’eau végétalisés permettra de prélever quelques plantes. À pieds\, en vélo ou en bus ! \nLes coins en ville correspondants à nos besoins que vous connaissez sont les bienvenus !
URL:https://terra-preta.fr/evenement/ballade-urbaine-pour-cueillette-de-plantes-aquatiques/
LOCATION:Archipel des Salins\, 1 place Gambetta\, Clermont-Ferrand\, 63000\, France
CATEGORIES:Animation,Les mercredis aux Salins
ATTACH;FMTTYPE=image/jpeg:https://terra-preta.fr/wp-content/uploads/2023/10/prelevement-aquatique.jpg
ORGANIZER;CN="Association Terra Preta":MAILTO:contact@terra-preta.fr
END:VEVENT
BEGIN:VEVENT
DTSTART;TZID=Europe/Paris:20231129T140000
DTEND;TZID=Europe/Paris:20231129T180000
DTSTAMP:20260420T212948
CREATED:20231004T094250Z
LAST-MODIFIED:20231004T094250Z
UID:5023-1701266400-1701280800@terra-preta.fr
SUMMARY:Mare - installation des contenants
DESCRIPTION:Après la réflexion\, c’est l’action : creuser\, installer\, relier et gérer les trop pleins des mares. Voici notre mission ! \nIl va nous falloir un peu de matériel : des tuyaux\, des contenants\, du silicone\, un niveau à bulle\, des parpaings/briques pour la fondation sous la mare… \nVotre aide est la bienvenue =)
URL:https://terra-preta.fr/evenement/mare-installation-des-contenants/
LOCATION:Archipel des Salins\, 1 place Gambetta\, Clermont-Ferrand\, 63000\, France
CATEGORIES:Animation,Les mercredis aux Salins
ATTACH;FMTTYPE=image/jpeg:https://terra-preta.fr/wp-content/uploads/2023/10/Creuser-la-mare.jpg
ORGANIZER;CN="Association Terra Preta":MAILTO:contact@terra-preta.fr
END:VEVENT
END:VCALENDAR