BEGIN:VCALENDAR
VERSION:2.0
PRODID:-//Terra Preta - ECPv6.15.17.1//NONSGML v1.0//EN
CALSCALE:GREGORIAN
METHOD:PUBLISH
X-WR-CALNAME:Terra Preta
X-ORIGINAL-URL:https://terra-preta.fr
X-WR-CALDESC:Évènements pour Terra Preta
REFRESH-INTERVAL;VALUE=DURATION:PT1H
X-Robots-Tag:noindex
X-PUBLISHED-TTL:PT1H
BEGIN:VTIMEZONE
TZID:Europe/Paris
BEGIN:DAYLIGHT
TZOFFSETFROM:+0100
TZOFFSETTO:+0200
TZNAME:CEST
DTSTART:20220327T010000
END:DAYLIGHT
BEGIN:STANDARD
TZOFFSETFROM:+0200
TZOFFSETTO:+0100
TZNAME:CET
DTSTART:20221030T010000
END:STANDARD
BEGIN:DAYLIGHT
TZOFFSETFROM:+0100
TZOFFSETTO:+0200
TZNAME:CEST
DTSTART:20230326T010000
END:DAYLIGHT
BEGIN:STANDARD
TZOFFSETFROM:+0200
TZOFFSETTO:+0100
TZNAME:CET
DTSTART:20231029T010000
END:STANDARD
BEGIN:DAYLIGHT
TZOFFSETFROM:+0100
TZOFFSETTO:+0200
TZNAME:CEST
DTSTART:20240331T010000
END:DAYLIGHT
BEGIN:STANDARD
TZOFFSETFROM:+0200
TZOFFSETTO:+0100
TZNAME:CET
DTSTART:20241027T010000
END:STANDARD
END:VTIMEZONE
BEGIN:VEVENT
DTSTART;TZID=Europe/Paris:20230809T150000
DTEND;TZID=Europe/Paris:20230809T160000
DTSTAMP:20260421T023639
CREATED:20230706T091126Z
LAST-MODIFIED:20230712T103526Z
UID:4811-1691593200-1691596800@terra-preta.fr
SUMMARY:Eau jardin et ailleurs
DESCRIPTION:« Eau jardin et ailleurs » est un atelier thématique sur l’eau. \nL’eau un bien commun…\nComment la stocker\, l’économiser\, en prendre soin ?\nQuelles techniques multiples mettre en place au jardin pour préserver cette ressource rare ? Et finalement\, le jardin n’est-il pas une extension de nos habitats alors pourquoi la préserver uniquement là bas  ? \nNous aborderons\, ensemble différentes techniques que vous connaissez\, que vous avez mis en place ou pas. Nous comparerons avec ce que nous avons déjà testé à l’Archipel des Salins et ce que nous voulons développer et co-créer avec touste pour anticiper la raréfaction et le partage des usages à venir de cette ressource . \nOya pour arroser la menthe en bac à l’Archipel des Salins. Eau jardin et ailleurs\nAtelier d’une heure qui pourra se prolonger dans le temps imparti de la permanence (fin au plus tard à 18h). \nPas d’inscription\, gratuit\, tout public \n 
URL:https://terra-preta.fr/evenement/eau-jardin-et-ailleurs/
LOCATION:Archipel des Salins\, 1 place Gambetta\, Clermont-Ferrand\, 63000\, France
CATEGORIES:Animation,Les mercredis aux Salins
ATTACH;FMTTYPE=image/jpeg:https://terra-preta.fr/wp-content/uploads/2023/07/oya-ouverte-archipel-des-salins.jpg
ORGANIZER;CN="Association Terra Preta":MAILTO:contact@terra-preta.fr
END:VEVENT
END:VCALENDAR