BEGIN:VCALENDAR
VERSION:2.0
PRODID:-//Terra Preta - ECPv6.15.17.1//NONSGML v1.0//EN
CALSCALE:GREGORIAN
METHOD:PUBLISH
X-ORIGINAL-URL:https://terra-preta.fr
X-WR-CALDESC:Évènements pour Terra Preta
REFRESH-INTERVAL;VALUE=DURATION:PT1H
X-Robots-Tag:noindex
X-PUBLISHED-TTL:PT1H
BEGIN:VTIMEZONE
TZID:Europe/Paris
BEGIN:DAYLIGHT
TZOFFSETFROM:+0100
TZOFFSETTO:+0200
TZNAME:CEST
DTSTART:20220327T010000
END:DAYLIGHT
BEGIN:STANDARD
TZOFFSETFROM:+0200
TZOFFSETTO:+0100
TZNAME:CET
DTSTART:20221030T010000
END:STANDARD
BEGIN:DAYLIGHT
TZOFFSETFROM:+0100
TZOFFSETTO:+0200
TZNAME:CEST
DTSTART:20230326T010000
END:DAYLIGHT
BEGIN:STANDARD
TZOFFSETFROM:+0200
TZOFFSETTO:+0100
TZNAME:CET
DTSTART:20231029T010000
END:STANDARD
BEGIN:DAYLIGHT
TZOFFSETFROM:+0100
TZOFFSETTO:+0200
TZNAME:CEST
DTSTART:20240331T010000
END:DAYLIGHT
BEGIN:STANDARD
TZOFFSETFROM:+0200
TZOFFSETTO:+0100
TZNAME:CET
DTSTART:20241027T010000
END:STANDARD
END:VTIMEZONE
BEGIN:VEVENT
DTSTART;TZID=Europe/Paris:20230503T150000
DTEND;TZID=Europe/Paris:20230503T160000
DTSTAMP:20260421T080555
CREATED:20230406T100723Z
LAST-MODIFIED:20230406T104006Z
UID:4509-1683126000-1683129600@terra-preta.fr
SUMMARY:Boutures
DESCRIPTION:Apprenez à faire des boutures (clones) de plantes en passant par la pratique (un article complet sur les boutures et marcottes pour se préparer à l’atelier ou pour refaire chez vous si vous aviez oublié). L’horaire de fin d’atelier peut dépasser au maximum jusqu’à 18h. \nL’atelier est gratuit et ouvert à tout le monde\, petit.e.s et grand.e.s !
URL:https://terra-preta.fr/evenement/boutures/
LOCATION:Archipel des Salins\, 1 place Gambetta\, Clermont-Ferrand\, 63000\, France
CATEGORIES:Animation,Les mercredis aux Salins
END:VEVENT
BEGIN:VEVENT
DTSTART;TZID=Europe/Paris:20230510T150000
DTEND;TZID=Europe/Paris:20230510T160000
DTSTAMP:20260421T080555
CREATED:20230406T101358Z
LAST-MODIFIED:20230406T103929Z
UID:4513-1683730800-1683734400@terra-preta.fr
SUMMARY:Repiquage des semis
DESCRIPTION:Après avoir fait germer les graines\, et maintenant que la plantule est à l’étroit dans son pot\, il est temps de la repiquer. C’est à dire qu’on va soit la transplanter dans un pot plus grand\, soit lui donner sa liberté en la mettant en place en pleine terre. Apprenez cette étape indispensable lors de cet atelier de repiquage. L’atelier pourra dépasser après 16h mais n’ira pas au delà de 18h dernier délai. \nL’atelier est gratuit et ouvert à tout le monde\, petit.e.s et grand.e.s !
URL:https://terra-preta.fr/evenement/repiquage-des-semis/
LOCATION:Archipel des Salins\, 1 place Gambetta\, Clermont-Ferrand\, 63000\, France
CATEGORIES:Animation,Les mercredis aux Salins
END:VEVENT
BEGIN:VEVENT
DTSTART;TZID=Europe/Paris:20230517T150000
DTEND;TZID=Europe/Paris:20230517T160000
DTSTAMP:20260421T080555
CREATED:20230406T101855Z
LAST-MODIFIED:20230406T103901Z
UID:4518-1684335600-1684339200@terra-preta.fr
SUMMARY:Identifications des fleurs sauvages du jardin
DESCRIPTION:Partez à la découverte des fleurs de notre jardin et apprenez leurs noms. À l’aide de nos connaissances à tou.s.tes et avec des clés d’identification nous apprendrons à les reconnaître et à nous émerveiller devant leurs beautés. \nL’atelier est gratuit et ouvert à tout le monde\, petit.e.s et grand.e.s !
URL:https://terra-preta.fr/evenement/identifications-des-fleurs-sauvages-du-jardin-lors-des-mercredis-aux-salins/
LOCATION:Archipel des Salins\, 1 place Gambetta\, Clermont-Ferrand\, 63000\, France
CATEGORIES:Animation,Les mercredis aux Salins
END:VEVENT
BEGIN:VEVENT
DTSTART;TZID=Europe/Paris:20230524T150000
DTEND;TZID=Europe/Paris:20230524T160000
DTSTAMP:20260421T080555
CREATED:20230406T103123Z
LAST-MODIFIED:20230406T103837Z
UID:4521-1684940400-1684944000@terra-preta.fr
SUMMARY:Petites bêtes et oiseaux du jardin
DESCRIPTION:Avec nos connaissances à tou.s.tes et avec l’aide de quelques livres et images nous chercherons les animaux présent dans le jardin et tenterons de leur donner un nom.
URL:https://terra-preta.fr/evenement/petites-betes-et-oiseaux-du-jardin-lors-des-mercredis-aux-salins/
LOCATION:Archipel des Salins\, 1 place Gambetta\, Clermont-Ferrand\, 63000\, France
CATEGORIES:Animation,Les mercredis aux Salins
END:VEVENT
BEGIN:VEVENT
DTSTART;TZID=Europe/Paris:20230531T150000
DTEND;TZID=Europe/Paris:20230531T160000
DTSTAMP:20260421T080555
CREATED:20230406T103439Z
LAST-MODIFIED:20230406T105736Z
UID:4523-1685545200-1685548800@terra-preta.fr
SUMMARY:Petite vannerie sauvage
DESCRIPTION:Apprenez à faire de la petite vannerie lors de cet atelier sur inscriptions. \nL’atelier est gratuit et ouvert à tout le monde\, petit.e.s et grand.e.s !
URL:https://terra-preta.fr/evenement/petite-vannerie-sauvage-lors-des-mercredis-aux-salins/
LOCATION:Archipel des Salins\, 1 place Gambetta\, Clermont-Ferrand\, 63000\, France
CATEGORIES:Animation,Les mercredis aux Salins
END:VEVENT
END:VCALENDAR